BEGIN:VCALENDAR
VERSION:2.0
PRODID:-//VETTS Veli Erdogan TischTennis Schule - ECPv6.4.0.1//NONSGML v1.0//EN
CALSCALE:GREGORIAN
METHOD:PUBLISH
X-WR-CALNAME:VETTS Veli Erdogan TischTennis Schule
X-ORIGINAL-URL:https://vetts-ttschule.de
X-WR-CALDESC:Veranstaltungen für VETTS Veli Erdogan TischTennis Schule
REFRESH-INTERVAL;VALUE=DURATION:PT1H
X-Robots-Tag:noindex
X-PUBLISHED-TTL:PT1H
BEGIN:VTIMEZONE
TZID:Europe/Berlin
BEGIN:DAYLIGHT
TZOFFSETFROM:+0100
TZOFFSETTO:+0200
TZNAME:CEST
DTSTART:20240331T010000
END:DAYLIGHT
BEGIN:STANDARD
TZOFFSETFROM:+0200
TZOFFSETTO:+0100
TZNAME:CET
DTSTART:20241027T010000
END:STANDARD
END:VTIMEZONE
BEGIN:VEVENT
DTSTART;TZID=Europe/Berlin:20240501T103000
DTEND;TZID=Europe/Berlin:20240501T180000
DTSTAMP:20260423T071457
CREATED:20240409T204904Z
LAST-MODIFIED:20240409T204904Z
UID:1083-1714559400-1714586400@vetts-ttschule.de
SUMMARY:TTVSH-RACE powered by VETTS
DESCRIPTION:Anmeldung und Infos über TT-Live Turnierkalender \nB-Klasse(ab 1100-1399LPZ Punkte):11:00-14:00 \nA-Klasse(ab 1400 LPZ Punkte):15:00-18:00
URL:https://vetts-ttschule.de/event/ttvsh-race-powered-by-vetts/
END:VEVENT
END:VCALENDAR