BEGIN:VCALENDAR
VERSION:2.0
PRODID:-//VETTS Veli Erdogan TischTennis Schule - ECPv6.4.0.1//NONSGML v1.0//EN
CALSCALE:GREGORIAN
METHOD:PUBLISH
X-ORIGINAL-URL:https://vetts-ttschule.de
X-WR-CALDESC:Veranstaltungen für VETTS Veli Erdogan TischTennis Schule
REFRESH-INTERVAL;VALUE=DURATION:PT1H
X-Robots-Tag:noindex
X-PUBLISHED-TTL:PT1H
BEGIN:VTIMEZONE
TZID:Europe/Berlin
BEGIN:DAYLIGHT
TZOFFSETFROM:+0100
TZOFFSETTO:+0200
TZNAME:CEST
DTSTART:20240331T010000
END:DAYLIGHT
BEGIN:STANDARD
TZOFFSETFROM:+0200
TZOFFSETTO:+0100
TZNAME:CET
DTSTART:20241027T010000
END:STANDARD
END:VTIMEZONE
BEGIN:VEVENT
DTSTART;TZID=Europe/Berlin:20240812T100000
DTEND;TZID=Europe/Berlin:20240816T140000
DTSTAMP:20260423T023848
CREATED:20240629T090034Z
LAST-MODIFIED:20240629T090148Z
UID:1185-1723456800-1723816800@vetts-ttschule.de
SUMMARY:VETTS-SOMMERLEHRGANG in Boostedt vom 12.08. – 16.08.2024
DESCRIPTION:Lehrgangskosten: 150\,-€ \nMontag – Freitag von 10:00 Uhr bis 14:00 Uhr \nAnmeldung auch tageweise möglich\, Lehrgangskosten pro Tag 35\,-€
URL:https://vetts-ttschule.de/event/vetts-sommerlehrgang-in-boostedt-vom-12-08-16-08-2024/
LOCATION:Siegfried-Steffensen-Sporthalle\, Ecke Twiete/Schlesienstr.\, Boostedt\, 24598\, Deutschland
END:VEVENT
BEGIN:VEVENT
DTSTART;TZID=Europe/Berlin:20240815T160000
DTEND;TZID=Europe/Berlin:20240815T200000
DTSTAMP:20260423T023848
CREATED:20240615T091152Z
LAST-MODIFIED:20240615T091152Z
UID:1147-1723737600-1723752000@vetts-ttschule.de
SUMMARY:VETTS-EINZELTRAINING in Kiel
DESCRIPTION:In der Zeit von 16 – 20 Uhr ist es möglich\, Einzeltraining zu buchen. \nab 25\,-€ pro 60 Minute
URL:https://vetts-ttschule.de/event/vetts-einzeltraining-in-kiel-17/
LOCATION:Sporthalle Christliche Schule Kiel; Diesterwegstr. 20; 24113 Kiel
END:VEVENT
END:VCALENDAR