BEGIN:VCALENDAR
VERSION:2.0
PRODID:-//VETTS Veli Erdogan TischTennis Schule - ECPv6.4.0.1//NONSGML v1.0//EN
CALSCALE:GREGORIAN
METHOD:PUBLISH
X-WR-CALNAME:VETTS Veli Erdogan TischTennis Schule
X-ORIGINAL-URL:https://vetts-ttschule.de
X-WR-CALDESC:Veranstaltungen für VETTS Veli Erdogan TischTennis Schule
REFRESH-INTERVAL;VALUE=DURATION:PT1H
X-Robots-Tag:noindex
X-PUBLISHED-TTL:PT1H
BEGIN:VTIMEZONE
TZID:Europe/Berlin
BEGIN:DAYLIGHT
TZOFFSETFROM:+0100
TZOFFSETTO:+0200
TZNAME:CEST
DTSTART:20240331T010000
END:DAYLIGHT
BEGIN:STANDARD
TZOFFSETFROM:+0200
TZOFFSETTO:+0100
TZNAME:CET
DTSTART:20241027T010000
END:STANDARD
END:VTIMEZONE
BEGIN:VEVENT
DTSTART;TZID=Europe/Berlin:20241028T110000
DTEND;TZID=Europe/Berlin:20241101T150000
DTSTAMP:20260422T214126
CREATED:20240926T102502Z
LAST-MODIFIED:20240926T102640Z
UID:1207-1730113200-1730473200@vetts-ttschule.de
SUMMARY:VETTS-HERBSTLEHRGANG in Raisdorf vom 28.10.2024-1.11.2024
DESCRIPTION:ehrgangskosten: 150\,-€ \nMontag – Freitag von 11:00 Uhr bis 15:00 Uhr \nAnmeldung auch tageweise möglich\, Lehrgangskosten pro Tag 35\,-€ \n 
URL:https://vetts-ttschule.de/event/vetts-herbstlehrgang-in-raisdorf-vom-28-10-2024-1-11-2024/
LOCATION:Utoxeter Halle\, Zum See 24\, Raisdorf\, Zum See 24\, Raisdorf\, Deutschland
END:VEVENT
END:VCALENDAR