BEGIN:VCALENDAR
VERSION:2.0
PRODID:-//VETTS Veli Erdogan TischTennis Schule - ECPv6.4.0.1//NONSGML v1.0//EN
CALSCALE:GREGORIAN
METHOD:PUBLISH
X-ORIGINAL-URL:https://vetts-ttschule.de
X-WR-CALDESC:Veranstaltungen für VETTS Veli Erdogan TischTennis Schule
REFRESH-INTERVAL;VALUE=DURATION:PT1H
X-Robots-Tag:noindex
X-PUBLISHED-TTL:PT1H
BEGIN:VTIMEZONE
TZID:Europe/Berlin
BEGIN:DAYLIGHT
TZOFFSETFROM:+0100
TZOFFSETTO:+0200
TZNAME:CEST
DTSTART:20250330T010000
END:DAYLIGHT
BEGIN:STANDARD
TZOFFSETFROM:+0200
TZOFFSETTO:+0100
TZNAME:CET
DTSTART:20251026T010000
END:STANDARD
END:VTIMEZONE
BEGIN:VEVENT
DTSTART;VALUE=DATE:20250421
DTEND;VALUE=DATE:20250426
DTSTAMP:20260422T124637
CREATED:20250130T111119Z
LAST-MODIFIED:20250130T111119Z
UID:1280-1745193600-1745625599@vetts-ttschule.de
SUMMARY:VETTS-OSTERLEHRGANG in Raisdorf vom 21.04.-25.04.2025
DESCRIPTION:Lehrgangskosten: 150\,-€ Montag – Freitag von 10:00 Uhr bis 14:00 Uhr \n  \nAnmeldung auch tageweise möglich\, Lehrgangskosten pro Tag 35\,-€
URL:https://vetts-ttschule.de/event/vetts-osterlehrgang-in-raisdorf-vom-21-04-25-04-2025/
LOCATION:Utoxeter Halle\, Zum See 24\, Raisdorf\, Zum See 24\, Raisdorf\, Deutschland
END:VEVENT
BEGIN:VEVENT
DTSTART;TZID=Europe/Berlin:20250424T160000
DTEND;TZID=Europe/Berlin:20250424T200000
DTSTAMP:20260422T124637
CREATED:20241228T114315Z
LAST-MODIFIED:20241228T114315Z
UID:1247-1745510400-1745524800@vetts-ttschule.de
SUMMARY:VETTS-EINZELTRAINING in Kiel
DESCRIPTION:In der Zeit von 16 – 20 Uhr ist es möglich\, Einzeltraining zu buchen. ab 25\,-€ pro 60 Minuten
URL:https://vetts-ttschule.de/event/vetts-einzeltraining-in-kiel-52/
LOCATION:Sporthalle Christliche Schule Kiel; Diesterwegstr. 20; 24113 Kiel
END:VEVENT
END:VCALENDAR