BEGIN:VCALENDAR
VERSION:2.0
PRODID:-//VETTS Veli Erdogan TischTennis Schule - ECPv6.4.0.1//NONSGML v1.0//EN
CALSCALE:GREGORIAN
METHOD:PUBLISH
X-WR-CALNAME:VETTS Veli Erdogan TischTennis Schule
X-ORIGINAL-URL:https://vetts-ttschule.de
X-WR-CALDESC:Veranstaltungen für VETTS Veli Erdogan TischTennis Schule
REFRESH-INTERVAL;VALUE=DURATION:PT1H
X-Robots-Tag:noindex
X-PUBLISHED-TTL:PT1H
BEGIN:VTIMEZONE
TZID:Europe/Berlin
BEGIN:DAYLIGHT
TZOFFSETFROM:+0100
TZOFFSETTO:+0200
TZNAME:CEST
DTSTART:20260329T010000
END:DAYLIGHT
BEGIN:STANDARD
TZOFFSETFROM:+0200
TZOFFSETTO:+0100
TZNAME:CET
DTSTART:20261025T010000
END:STANDARD
END:VTIMEZONE
BEGIN:VEVENT
DTSTART;TZID=Europe/Berlin:20260307T153000
DTEND;TZID=Europe/Berlin:20260307T173000
DTSTAMP:20260421T182546
CREATED:20260306T140638Z
LAST-MODIFIED:20260306T143002Z
UID:1368-1772897400-1772904600@vetts-ttschule.de
SUMMARY:VETTS-LEHRGANG in Kiel
DESCRIPTION:Datum: 07\,03.2026 \nZeit: 15:30 – 17:30 \nPreis: 15€ \nTeilnehmerzahl: max. 16 \nTeilnehmer/innen: Jugend und Erwachsene alle Spielklassen \n\n\n\n\n\n 
URL:https://vetts-ttschule.de/event/privat-vetts-herbstlehrgang-in-raisdorf-vom-06-04-10-04-2026/
LOCATION:Sporthalle Jahnstraße 8 ; 24116 Kiel\, Jahnatraße 8\, Kiel\, Schleswig Holstein\, 24116\, Deutschland
END:VEVENT
END:VCALENDAR