BEGIN:VCALENDAR
VERSION:2.0
PRODID:-//VETTS Veli Erdogan TischTennis Schule - ECPv6.4.0.1//NONSGML v1.0//EN
CALSCALE:GREGORIAN
METHOD:PUBLISH
X-WR-CALNAME:VETTS Veli Erdogan TischTennis Schule
X-ORIGINAL-URL:https://vetts-ttschule.de
X-WR-CALDESC:Veranstaltungen für VETTS Veli Erdogan TischTennis Schule
REFRESH-INTERVAL;VALUE=DURATION:PT1H
X-Robots-Tag:noindex
X-PUBLISHED-TTL:PT1H
BEGIN:VTIMEZONE
TZID:Europe/Berlin
BEGIN:DAYLIGHT
TZOFFSETFROM:+0100
TZOFFSETTO:+0200
TZNAME:CEST
DTSTART:20260329T010000
END:DAYLIGHT
BEGIN:STANDARD
TZOFFSETFROM:+0200
TZOFFSETTO:+0100
TZNAME:CET
DTSTART:20261025T010000
END:STANDARD
END:VTIMEZONE
BEGIN:VEVENT
DTSTART;TZID=Europe/Berlin:20260328T110000
DTEND;TZID=Europe/Berlin:20260328T133000
DTSTAMP:20260421T181245
CREATED:20260306T144422Z
LAST-MODIFIED:20260306T150934Z
UID:1376-1774695600-1774704600@vetts-ttschule.de
SUMMARY:VETTS-LEHRGANG in Flensburg
DESCRIPTION:Lehrgangskosten: 150\,-€\n\n\nMontag – Freitag von 10:00 Uhr bis 14:00 Uhr \nAnmeldung auch tageweise möglich\, Lehrgangskosten pro Tag 35\,-€ \nTeilnehmer/innen: Jugend und Erwachsene alle Spielklassen
URL:https://vetts-ttschule.de/event/vetts-herbstlehrgang-in-raisdorf-vom-06-04-10-04-2026/
LOCATION:Petrihalle\, Apenrader Str. 164\, Flensburg\, 24939\, Deutschland
END:VEVENT
END:VCALENDAR