BEGIN:VCALENDAR
VERSION:2.0
PRODID:-//VETTS Veli Erdogan TischTennis Schule - ECPv6.4.0.1//NONSGML v1.0//EN
CALSCALE:GREGORIAN
METHOD:PUBLISH
X-WR-CALNAME:VETTS Veli Erdogan TischTennis Schule
X-ORIGINAL-URL:https://vetts-ttschule.de
X-WR-CALDESC:Veranstaltungen für VETTS Veli Erdogan TischTennis Schule
REFRESH-INTERVAL;VALUE=DURATION:PT1H
X-Robots-Tag:noindex
X-PUBLISHED-TTL:PT1H
BEGIN:VTIMEZONE
TZID:Europe/Berlin
BEGIN:DAYLIGHT
TZOFFSETFROM:+0100
TZOFFSETTO:+0200
TZNAME:CEST
DTSTART:20250330T010000
END:DAYLIGHT
BEGIN:STANDARD
TZOFFSETFROM:+0200
TZOFFSETTO:+0100
TZNAME:CET
DTSTART:20251026T010000
END:STANDARD
BEGIN:DAYLIGHT
TZOFFSETFROM:+0100
TZOFFSETTO:+0200
TZNAME:CEST
DTSTART:20260329T010000
END:DAYLIGHT
BEGIN:STANDARD
TZOFFSETFROM:+0200
TZOFFSETTO:+0100
TZNAME:CET
DTSTART:20261025T010000
END:STANDARD
END:VTIMEZONE
BEGIN:VEVENT
DTSTART;TZID=Europe/Berlin:20260416T160000
DTEND;TZID=Europe/Berlin:20260416T200000
DTSTAMP:20260421T150429
CREATED:20260302T141115Z
LAST-MODIFIED:20260302T141115Z
UID:1344-1776355200-1776369600@vetts-ttschule.de
SUMMARY:VETTS-EINZELTRAINING in Kiel
DESCRIPTION:In der Zeit von 16 – 20 Uhr ist es möglich\, Einzeltraining zu buchen\, ab 30\,-€ pro 60 Minuten
URL:https://vetts-ttschule.de/event/vetts-einzeltraining-in-kiel-81/
LOCATION:Sporthalle Christliche Schule Kiel; Diesterwegstr. 20; 24113 Kiel
END:VEVENT
BEGIN:VEVENT
DTSTART;TZID=Europe/Berlin:20260414T170000
DTEND;TZID=Europe/Berlin:20260414T210000
DTSTAMP:20260421T150429
CREATED:20260313T105425Z
LAST-MODIFIED:20260313T105425Z
UID:1393-1776186000-1776200400@vetts-ttschule.de
SUMMARY:VETTS-EINZELTRAINING in Kiel
DESCRIPTION:In der Zeit von 17 – 21 Uhr ist es möglich\, Einzeltraining zu buchen\, ab 30\,-€ pro 60 Minuten
URL:https://vetts-ttschule.de/event/vetts-einzeltraining-in-kiel-94/
LOCATION:Heinrich von Stephan Schule/Lernwerft; Falklandstraße 7; 24159 Friedrichsort
END:VEVENT
BEGIN:VEVENT
DTSTART;TZID=Europe/Berlin:20260409T160000
DTEND;TZID=Europe/Berlin:20260409T200000
DTSTAMP:20260421T150429
CREATED:20260302T140937Z
LAST-MODIFIED:20260302T141140Z
UID:1342-1775750400-1775764800@vetts-ttschule.de
SUMMARY:VETTS-EINZELTRAINING in Kiel
DESCRIPTION:In der Zeit von 16 – 20 Uhr ist es möglich\, Einzeltraining zu buchen\, ab 30\,-€ pro 60 Minuten
URL:https://vetts-ttschule.de/event/vetts-einzeltraining-in-kiel-80/
LOCATION:Sporthalle Christliche Schule Kiel; Diesterwegstr. 20; 24113 Kiel
END:VEVENT
BEGIN:VEVENT
DTSTART;TZID=Europe/Berlin:20260406T100000
DTEND;TZID=Europe/Berlin:20260410T140000
DTSTAMP:20260421T150429
CREATED:20260306T151427Z
LAST-MODIFIED:20260316T131127Z
UID:1382-1775469600-1775829600@vetts-ttschule.de
SUMMARY:VETTS-OSTERLEHRGANG in Raisdorf
DESCRIPTION:Lehrgangskosten: 150\,-€ \nMontag – Freitag von 10:00 Uhr bis 14:00 Uhr \nAnmeldung auch tageweise möglich\, Lehrgangskosten pro Tag 35\,-€ \nTeilnehmerzahl: max. 16 \nTeilnehmer/innen: Jugend und Erwachsene alle Spielklassen
URL:https://vetts-ttschule.de/event/vetts-osterlehrgang-in-raisdorf/
LOCATION:Utoxeter Halle\, Zum See 24\, Raisdorf\, Zum See 24\, Raisdorf\, Deutschland
END:VEVENT
BEGIN:VEVENT
DTSTART;TZID=Europe/Berlin:20260402T160000
DTEND;TZID=Europe/Berlin:20260402T200000
DTSTAMP:20260421T150429
CREATED:20260302T140712Z
LAST-MODIFIED:20260302T140831Z
UID:1340-1775145600-1775160000@vetts-ttschule.de
SUMMARY:VETTS-EINZELTRAINING in Kiel
DESCRIPTION:In der Zeit von 16 – 20 Uhr ist es möglich\, Einzeltraining zu buchen\, ab 30\,-€ pro 60 Minuten
URL:https://vetts-ttschule.de/event/vetts-einzeltraining-in-kiel-79/
LOCATION:Sporthalle Christliche Schule Kiel; Diesterwegstr. 20; 24113 Kiel
END:VEVENT
BEGIN:VEVENT
DTSTART;TZID=Europe/Berlin:20260331T170000
DTEND;TZID=Europe/Berlin:20260331T210000
DTSTAMP:20260421T150429
CREATED:20260313T105225Z
LAST-MODIFIED:20260313T105225Z
UID:1391-1774976400-1774990800@vetts-ttschule.de
SUMMARY:VETTS-EINZELTRAINING in Kiel
DESCRIPTION:In der Zeit von 17 – 21 Uhr ist es möglich\, Einzeltraining zu buchen\, ab 30\,-€ pro 60 Minuten
URL:https://vetts-ttschule.de/event/vetts-einzeltraining-in-kiel-93/
LOCATION:Heinrich von Stephan Schule/Lernwerft; Falklandstraße 7; 24159 Friedrichsort
END:VEVENT
BEGIN:VEVENT
DTSTART;TZID=Europe/Berlin:20260328T110000
DTEND;TZID=Europe/Berlin:20260328T133000
DTSTAMP:20260421T150429
CREATED:20260306T144422Z
LAST-MODIFIED:20260306T150934Z
UID:1376-1774695600-1774704600@vetts-ttschule.de
SUMMARY:VETTS-LEHRGANG in Flensburg
DESCRIPTION:Lehrgangskosten: 150\,-€\n\n\nMontag – Freitag von 10:00 Uhr bis 14:00 Uhr \nAnmeldung auch tageweise möglich\, Lehrgangskosten pro Tag 35\,-€ \nTeilnehmer/innen: Jugend und Erwachsene alle Spielklassen
URL:https://vetts-ttschule.de/event/vetts-herbstlehrgang-in-raisdorf-vom-06-04-10-04-2026/
LOCATION:Petrihalle\, Apenrader Str. 164\, Flensburg\, 24939\, Deutschland
END:VEVENT
BEGIN:VEVENT
DTSTART;TZID=Europe/Berlin:20260326T160000
DTEND;TZID=Europe/Berlin:20260326T200000
DTSTAMP:20260421T150429
CREATED:20251103T154726Z
LAST-MODIFIED:20251103T154726Z
UID:1333-1774540800-1774555200@vetts-ttschule.de
SUMMARY:VETTS-EINZELTRAINING in Kiel
DESCRIPTION:In der Zeit von 16 – 20 Uhr ist es möglich\, Einzeltraining zu buchen\, ab 30\,-€ pro 60 Minuten
URL:https://vetts-ttschule.de/event/vetts-einzeltraining-in-kiel-78/
LOCATION:Sporthalle Christliche Schule Kiel; Diesterwegstr. 20; 24113 Kiel
END:VEVENT
BEGIN:VEVENT
DTSTART;TZID=Europe/Berlin:20260324T170000
DTEND;TZID=Europe/Berlin:20260324T210000
DTSTAMP:20260421T150429
CREATED:20260313T105005Z
LAST-MODIFIED:20260313T105032Z
UID:1385-1774371600-1774386000@vetts-ttschule.de
SUMMARY:VETTS-EINZELTRAINING in Kiel
DESCRIPTION:In der Zeit von 17 – 21 Uhr ist es möglich\, Einzeltraining zu buchen\, ab 30\,-€ pro 60 Minuten
URL:https://vetts-ttschule.de/event/vetts-einzeltraining-in-kiel-92/
LOCATION:Heinrich von Stephan Schule/Lernwerft; Falklandstraße 7; 24159 Friedrichsort
END:VEVENT
BEGIN:VEVENT
DTSTART;TZID=Europe/Berlin:20260319T160000
DTEND;TZID=Europe/Berlin:20260319T200000
DTSTAMP:20260421T150429
CREATED:20251103T154637Z
LAST-MODIFIED:20251103T154753Z
UID:1331-1773936000-1773950400@vetts-ttschule.de
SUMMARY:VETTS-EINZELTRAINING in Kiel
DESCRIPTION:In der Zeit von 16 – 20 Uhr ist es möglich\, Einzeltraining zu buchen\, ab 30\,-€ pro 60 Minuten
URL:https://vetts-ttschule.de/event/vetts-einzeltraining-in-kiel-77/
LOCATION:Sporthalle Christliche Schule Kiel; Diesterwegstr. 20; 24113 Kiel
END:VEVENT
BEGIN:VEVENT
DTSTART;TZID=Europe/Berlin:20260312T160000
DTEND;TZID=Europe/Berlin:20260312T200000
DTSTAMP:20260421T150429
CREATED:20251103T154553Z
LAST-MODIFIED:20251103T154603Z
UID:1329-1773331200-1773345600@vetts-ttschule.de
SUMMARY:VETTS-EINZELTRAINING in Kiel
DESCRIPTION:In der Zeit von 16 – 20 Uhr ist es möglich\, Einzeltraining zu buchen\, ab 30\,-€ pro 60 Minuten
URL:https://vetts-ttschule.de/event/vetts-einzeltraining-in-kiel-76/
LOCATION:Sporthalle Christliche Schule Kiel; Diesterwegstr. 20; 24113 Kiel
END:VEVENT
BEGIN:VEVENT
DTSTART;TZID=Europe/Berlin:20260307T153000
DTEND;TZID=Europe/Berlin:20260307T173000
DTSTAMP:20260421T150429
CREATED:20260306T140638Z
LAST-MODIFIED:20260306T143002Z
UID:1368-1772897400-1772904600@vetts-ttschule.de
SUMMARY:VETTS-LEHRGANG in Kiel
DESCRIPTION:Datum: 07\,03.2026 \nZeit: 15:30 – 17:30 \nPreis: 15€ \nTeilnehmerzahl: max. 16 \nTeilnehmer/innen: Jugend und Erwachsene alle Spielklassen \n\n\n\n\n\n 
URL:https://vetts-ttschule.de/event/privat-vetts-herbstlehrgang-in-raisdorf-vom-06-04-10-04-2026/
LOCATION:Sporthalle Jahnstraße 8 ; 24116 Kiel\, Jahnatraße 8\, Kiel\, Schleswig Holstein\, 24116\, Deutschland
END:VEVENT
BEGIN:VEVENT
DTSTART;TZID=Europe/Berlin:20260305T160000
DTEND;TZID=Europe/Berlin:20260305T200000
DTSTAMP:20260421T150429
CREATED:20251103T154455Z
LAST-MODIFIED:20251103T154505Z
UID:1327-1772726400-1772740800@vetts-ttschule.de
SUMMARY:VETTS-EINZELTRAINING in Kiel
DESCRIPTION:In der Zeit von 16 – 20 Uhr ist es möglich\, Einzeltraining zu buchen\, ab 30\,-€ pro 60 Minuten
URL:https://vetts-ttschule.de/event/vetts-einzeltraining-in-kiel-75/
LOCATION:Sporthalle Christliche Schule Kiel; Diesterwegstr. 20; 24113 Kiel
END:VEVENT
BEGIN:VEVENT
DTSTART;TZID=Europe/Berlin:20260226T160000
DTEND;TZID=Europe/Berlin:20260226T200000
DTSTAMP:20260421T150429
CREATED:20251103T154129Z
LAST-MODIFIED:20251103T154129Z
UID:1324-1772121600-1772136000@vetts-ttschule.de
SUMMARY:VETTS-EINZELTRAINING in Kiel
DESCRIPTION:In der Zeit von 16 – 20 Uhr ist es möglich\, Einzeltraining zu buchen\, ab 30\,-€ pro 60 Minuten
URL:https://vetts-ttschule.de/event/vetts-einzeltraining-in-kiel-74/
LOCATION:Sporthalle Christliche Schule Kiel; Diesterwegstr. 20; 24113 Kiel
END:VEVENT
BEGIN:VEVENT
DTSTART;TZID=Europe/Berlin:20260219T160000
DTEND;TZID=Europe/Berlin:20260219T200000
DTSTAMP:20260421T150429
CREATED:20251103T154044Z
LAST-MODIFIED:20251103T154044Z
UID:1322-1771516800-1771531200@vetts-ttschule.de
SUMMARY:VETTS-EINZELTRAINING in Kiel
DESCRIPTION:In der Zeit von 16 – 20 Uhr ist es möglich\, Einzeltraining zu buchen\, ab 30\,-€ pro 60 Minuten
URL:https://vetts-ttschule.de/event/vetts-einzeltraining-in-kiel-73/
LOCATION:Sporthalle Christliche Schule Kiel; Diesterwegstr. 20; 24113 Kiel
END:VEVENT
BEGIN:VEVENT
DTSTART;TZID=Europe/Berlin:20260212T160000
DTEND;TZID=Europe/Berlin:20260212T200000
DTSTAMP:20260421T150429
CREATED:20251103T153942Z
LAST-MODIFIED:20251103T153942Z
UID:1320-1770912000-1770926400@vetts-ttschule.de
SUMMARY:VETTS-EINZELTRAINING in Kiel
DESCRIPTION:In der Zeit von 16 – 20 Uhr ist es möglich\, Einzeltraining zu buchen\, ab 30\,-€ pro 60 Minuten
URL:https://vetts-ttschule.de/event/vetts-einzeltraining-in-kiel-72/
LOCATION:Sporthalle Christliche Schule Kiel; Diesterwegstr. 20; 24113 Kiel
END:VEVENT
BEGIN:VEVENT
DTSTART;TZID=Europe/Berlin:20260205T160000
DTEND;TZID=Europe/Berlin:20260205T200000
DTSTAMP:20260421T150429
CREATED:20251103T153858Z
LAST-MODIFIED:20251103T154225Z
UID:1318-1770307200-1770321600@vetts-ttschule.de
SUMMARY:VETTS-EINZELTRAINING in Kiel
DESCRIPTION:In der Zeit von 16 – 20 Uhr ist es möglich\, Einzeltraining zu buchen\, ab 30\,-€ pro 60 Minuten
URL:https://vetts-ttschule.de/event/veets-einzeltraining-in-kiel/
LOCATION:Sporthalle Christliche Schule Kiel; Diesterwegstr. 20; 24113 Kiel
END:VEVENT
BEGIN:VEVENT
DTSTART;TZID=Europe/Berlin:20260129T160000
DTEND;TZID=Europe/Berlin:20260129T200000
DTSTAMP:20260421T150429
CREATED:20251103T153759Z
LAST-MODIFIED:20251103T153759Z
UID:1316-1769702400-1769716800@vetts-ttschule.de
SUMMARY:VETTS-EINZELTRAINING in Kiel
DESCRIPTION:In der Zeit von 16 – 20 Uhr ist es möglich\, Einzeltraining zu buchen\, ab 30\,-€ pro 60 Minuten
URL:https://vetts-ttschule.de/event/vetts-einzeltraining-in-kiel-71/
LOCATION:Sporthalle Christliche Schule Kiel; Diesterwegstr. 20; 24113 Kiel
END:VEVENT
BEGIN:VEVENT
DTSTART;TZID=Europe/Berlin:20260122T160000
DTEND;TZID=Europe/Berlin:20260122T200000
DTSTAMP:20260421T150429
CREATED:20251103T153701Z
LAST-MODIFIED:20251103T153701Z
UID:1314-1769097600-1769112000@vetts-ttschule.de
SUMMARY:VETTS-EINZELTRAINING in Kiel
DESCRIPTION:In der Zeit von 16 – 20 Uhr ist es möglich\, Einzeltraining zu buchen\, ab 30\,-€ pro 60 Minuten
URL:https://vetts-ttschule.de/event/vetts-einzeltraining-in-kiel-70/
LOCATION:Sporthalle Christliche Schule Kiel; Diesterwegstr. 20; 24113 Kiel
END:VEVENT
BEGIN:VEVENT
DTSTART;TZID=Europe/Berlin:20260115T160000
DTEND;TZID=Europe/Berlin:20260115T200000
DTSTAMP:20260421T150429
CREATED:20251103T153621Z
LAST-MODIFIED:20251103T153621Z
UID:1312-1768492800-1768507200@vetts-ttschule.de
SUMMARY:VETTS-EINZELTRAINING in Kiel
DESCRIPTION:In der Zeit von 16 – 20 Uhr ist es möglich\, Einzeltraining zu buchen\, ab 30\,-€ pro 60 Minuten
URL:https://vetts-ttschule.de/event/vetts-einzeltraining-in-kiel-69/
LOCATION:Sporthalle Christliche Schule Kiel; Diesterwegstr. 20; 24113 Kiel
END:VEVENT
BEGIN:VEVENT
DTSTART;TZID=Europe/Berlin:20251218T160000
DTEND;TZID=Europe/Berlin:20251218T200000
DTSTAMP:20260421T150429
CREATED:20251103T153440Z
LAST-MODIFIED:20251103T153440Z
UID:1310-1766073600-1766088000@vetts-ttschule.de
SUMMARY:VETTS-EINZELTRAINING in Kiel
DESCRIPTION:In der Zeit von 16 – 20 Uhr ist es möglich\, Einzeltraining zu buchen\, ab 30\,-€ pro 60 Minuten
URL:https://vetts-ttschule.de/event/vetts-einzeltraining-in-kiel-68/
LOCATION:Sporthalle Christliche Schule Kiel; Diesterwegstr. 20; 24113 Kiel
END:VEVENT
BEGIN:VEVENT
DTSTART;TZID=Europe/Berlin:20251211T160000
DTEND;TZID=Europe/Berlin:20251211T200000
DTSTAMP:20260421T150429
CREATED:20251103T153325Z
LAST-MODIFIED:20251103T153325Z
UID:1308-1765468800-1765483200@vetts-ttschule.de
SUMMARY:VETTS-EINZELTRAINING in Kiel
DESCRIPTION:In der Zeit von 16 – 20 Uhr ist es möglich\, Einzeltraining zu buchen\, ab 30\,-€ pro 60 Minuten
URL:https://vetts-ttschule.de/event/vetts-einzeltraining-in-kiel-67/
LOCATION:Sporthalle Christliche Schule Kiel; Diesterwegstr. 20; 24113 Kiel
END:VEVENT
BEGIN:VEVENT
DTSTART;TZID=Europe/Berlin:20251204T160000
DTEND;TZID=Europe/Berlin:20251204T200000
DTSTAMP:20260421T150429
CREATED:20251103T153248Z
LAST-MODIFIED:20251103T153248Z
UID:1306-1764864000-1764878400@vetts-ttschule.de
SUMMARY:VETTS-EINZELTRAINING in Kiel
DESCRIPTION:In der Zeit von 16 – 20 Uhr ist es möglich\, Einzeltraining zu buchen\, ab 30\,-€ pro 60 Minuten
URL:https://vetts-ttschule.de/event/vetts-einzeltraining-in-kiel-66/
LOCATION:Sporthalle Christliche Schule Kiel; Diesterwegstr. 20; 24113 Kiel
END:VEVENT
BEGIN:VEVENT
DTSTART;TZID=Europe/Berlin:20251127T160000
DTEND;TZID=Europe/Berlin:20251127T200000
DTSTAMP:20260421T150429
CREATED:20251103T153028Z
LAST-MODIFIED:20251103T153159Z
UID:1298-1764259200-1764273600@vetts-ttschule.de
SUMMARY:VETTS-EINZELTRAINING in Kiel
DESCRIPTION:In der Zeit von 16 – 20 Uhr ist es möglich\, Einzeltraining zu buchen\, ab 30\,-€ pro 60 Minuten
URL:https://vetts-ttschule.de/event/vetts-einzeltraing-in-kiel/
LOCATION:Sporthalle Christliche Schule Kiel; Diesterwegstr. 20; 24113 Kiel
END:VEVENT
BEGIN:VEVENT
DTSTART;TZID=Europe/Berlin:20251120T160000
DTEND;TZID=Europe/Berlin:20251120T200000
DTSTAMP:20260421T150429
CREATED:20251103T152916Z
LAST-MODIFIED:20251103T153147Z
UID:1296-1763654400-1763668800@vetts-ttschule.de
SUMMARY:VETTS-EINZELTRAINING in Kiel
DESCRIPTION:In der Zeit von 16 – 20 Uhr ist es möglich\, Einzeltraining zu buchen\, ab 30\,-€ pro 60 Minuten
URL:https://vetts-ttschule.de/event/vetts-einzeltrainig-in-kiel/
LOCATION:Sporthalle Christliche Schule Kiel; Diesterwegstr. 20; 24113 Kiel
END:VEVENT
BEGIN:VEVENT
DTSTART;TZID=Europe/Berlin:20251113T160000
DTEND;TZID=Europe/Berlin:20251113T200000
DTSTAMP:20260421T150429
CREATED:20241228T120445Z
LAST-MODIFIED:20251103T152844Z
UID:1271-1763049600-1763064000@vetts-ttschule.de
SUMMARY:VETTS-EINZELTRAINING in Kiel
DESCRIPTION:In der Zeit von 16 – 20 Uhr ist es möglich\, Einzeltraining zu buchen\, ab 30\,-€ pro 60 Minuten
URL:https://vetts-ttschule.de/event/vetts-einzeltraining-in-kiel-64/
LOCATION:Sporthalle Christliche Schule Kiel; Diesterwegstr. 20; 24113 Kiel
END:VEVENT
BEGIN:VEVENT
DTSTART;TZID=Europe/Berlin:20251106T160000
DTEND;TZID=Europe/Berlin:20251106T200000
DTSTAMP:20260421T150429
CREATED:20251103T152717Z
LAST-MODIFIED:20251103T152816Z
UID:1294-1762444800-1762459200@vetts-ttschule.de
SUMMARY:VETTS-EINZELTRAINING in Kiel
DESCRIPTION:In der Zeit von 16 – 20 Uhr ist es möglich\, Einzeltraining zu buchen\, ab 30\,-€ pro 60 Minuten
URL:https://vetts-ttschule.de/event/vetts-einzeltraining-in-kiel-65/
LOCATION:Sporthalle Christliche Schule Kiel; Diesterwegstr. 20; 24113 Kiel
END:VEVENT
BEGIN:VEVENT
DTSTART;VALUE=DATE:20250728
DTEND;VALUE=DATE:20250802
DTSTAMP:20260421T150429
CREATED:20250130T123306Z
LAST-MODIFIED:20250307T164641Z
UID:1282-1753660800-1754092799@vetts-ttschule.de
SUMMARY:VETTS-SOMMERLEHRGANG in Raisdorf vom 28.07.-1.08.2025
DESCRIPTION:Lehrgangskosten: 150\,-€ Montag – Freitag von 10:00 Uhr bis 14:00 Uhr \n  \nAnmeldung auch tageweise möglich\, Lehrgangskosten pro Tag 35\,-
URL:https://vetts-ttschule.de/event/vetts-sommerlehrgang-in-raisdorf-vom-28-07-1-08-2025/
LOCATION:Utoxeter Halle\, Zum See 24\, Raisdorf\, Zum See 24\, Raisdorf\, Deutschland
END:VEVENT
BEGIN:VEVENT
DTSTART;TZID=Europe/Berlin:20250717T160000
DTEND;TZID=Europe/Berlin:20250717T200000
DTSTAMP:20260421T150429
CREATED:20241228T120354Z
LAST-MODIFIED:20241228T120354Z
UID:1269-1752768000-1752782400@vetts-ttschule.de
SUMMARY:VETTS-EINZELTRAINING in Kiel
DESCRIPTION:In der Zeit von 16 – 20 Uhr ist es möglich\, Einzeltraining zu buchen. ab 25\,-€ pro 60 Minuten
URL:https://vetts-ttschule.de/event/vetts-einzeltraining-in-kiel-63/
LOCATION:Sporthalle Christliche Schule Kiel; Diesterwegstr. 20; 24113 Kiel
END:VEVENT
BEGIN:VEVENT
DTSTART;TZID=Europe/Berlin:20250710T160000
DTEND;TZID=Europe/Berlin:20250710T200000
DTSTAMP:20260421T150429
CREATED:20241228T120300Z
LAST-MODIFIED:20241228T120300Z
UID:1267-1752163200-1752177600@vetts-ttschule.de
SUMMARY:VETTS-EINZELTRAINING in Kiel
DESCRIPTION:In der Zeit von 16 – 20 Uhr ist es möglich\, Einzeltraining zu buchen. ab 25\,-€ pro 60 Minuten
URL:https://vetts-ttschule.de/event/vetts-einzeltraining-in-kiel-62/
LOCATION:Sporthalle Christliche Schule Kiel; Diesterwegstr. 20; 24113 Kiel
END:VEVENT
END:VCALENDAR