BEGIN:VCALENDAR
VERSION:2.0
PRODID:-//VETTS Veli Erdogan TischTennis Schule - ECPv6.4.0.1//NONSGML v1.0//EN
CALSCALE:GREGORIAN
METHOD:PUBLISH
X-ORIGINAL-URL:https://vetts-ttschule.de
X-WR-CALDESC:Veranstaltungen für VETTS Veli Erdogan TischTennis Schule
REFRESH-INTERVAL;VALUE=DURATION:PT1H
X-Robots-Tag:noindex
X-PUBLISHED-TTL:PT1H
BEGIN:VTIMEZONE
TZID:Europe/Berlin
BEGIN:DAYLIGHT
TZOFFSETFROM:+0100
TZOFFSETTO:+0200
TZNAME:CEST
DTSTART:20260329T010000
END:DAYLIGHT
BEGIN:STANDARD
TZOFFSETFROM:+0200
TZOFFSETTO:+0100
TZNAME:CET
DTSTART:20261025T010000
END:STANDARD
END:VTIMEZONE
BEGIN:VEVENT
DTSTART;TZID=Europe/Berlin:20260526T170000
DTEND;TZID=Europe/Berlin:20260526T210000
DTSTAMP:20260421T150607
CREATED:20260313T110043Z
LAST-MODIFIED:20260313T110043Z
UID:1405-1779814800-1779829200@vetts-ttschule.de
SUMMARY:VETTS-EINZELTRAINING in Kiel
DESCRIPTION:In der Zeit von 17 – 21 Uhr ist es möglich\, Einzeltraining zu buchen\, ab 30\,-€ pro 60 Minuten
URL:https://vetts-ttschule.de/event/vetts-einzeltraining-in-kiel-100/
LOCATION:Heinrich von Stephan Schule/Lernwerft; Falklandstraße 7; 24159 Friedrichsort
END:VEVENT
BEGIN:VEVENT
DTSTART;TZID=Europe/Berlin:20260528T160000
DTEND;TZID=Europe/Berlin:20260528T200000
DTSTAMP:20260421T150607
CREATED:20260302T141927Z
LAST-MODIFIED:20260302T141927Z
UID:1356-1779984000-1779998400@vetts-ttschule.de
SUMMARY:VETTS-EINZELTRAINING in Kiel
DESCRIPTION:In der Zeit von 16 – 20 Uhr ist es möglich\, Einzeltraining zu buchen\, ab 30\,-€ pro 60 Minuten
URL:https://vetts-ttschule.de/event/vetts-einzeltraining-in-kiel-86/
LOCATION:Sporthalle Christliche Schule Kiel; Diesterwegstr. 20; 24113 Kiel
END:VEVENT
BEGIN:VEVENT
DTSTART;TZID=Europe/Berlin:20260602T170000
DTEND;TZID=Europe/Berlin:20260602T210000
DTSTAMP:20260421T150607
CREATED:20260313T110236Z
LAST-MODIFIED:20260313T110236Z
UID:1407-1780419600-1780434000@vetts-ttschule.de
SUMMARY:VETTS-EINZELTRAINING in Kiel
DESCRIPTION:In der Zeit von 17 – 21 Uhr ist es möglich\, Einzeltraining zu buchen\, ab 30\,-€ pro 60 Minuten
URL:https://vetts-ttschule.de/event/vetts-einzeltraining-in-kiel-101/
LOCATION:Heinrich von Stephan Schule/Lernwerft; Falklandstraße 7; 24159 Friedrichsort
END:VEVENT
BEGIN:VEVENT
DTSTART;TZID=Europe/Berlin:20260604T160000
DTEND;TZID=Europe/Berlin:20260604T200000
DTSTAMP:20260421T150607
CREATED:20260302T142039Z
LAST-MODIFIED:20260302T142039Z
UID:1358-1780588800-1780603200@vetts-ttschule.de
SUMMARY:VETTS-EINZELTRAINING in Kiel
DESCRIPTION:In der Zeit von 16 – 20 Uhr ist es möglich\, Einzeltraining zu buchen\, ab 30\,-€ pro 60 Minuten
URL:https://vetts-ttschule.de/event/vetts-einzeltraining-in-kiel-87/
LOCATION:Sporthalle Christliche Schule Kiel; Diesterwegstr. 20; 24113 Kiel
END:VEVENT
BEGIN:VEVENT
DTSTART;TZID=Europe/Berlin:20260609T170000
DTEND;TZID=Europe/Berlin:20260609T210000
DTSTAMP:20260421T150607
CREATED:20260313T110343Z
LAST-MODIFIED:20260313T110343Z
UID:1409-1781024400-1781038800@vetts-ttschule.de
SUMMARY:VETTS-EINZELTRAINING in Kiel
DESCRIPTION:In der Zeit von 17 – 21 Uhr ist es möglich\, Einzeltraining zu buchen\, ab 30\,-€ pro 60 Minuten
URL:https://vetts-ttschule.de/event/vetts-einzeltraining-in-kiel-102/
LOCATION:Heinrich von Stephan Schule/Lernwerft; Falklandstraße 7; 24159 Friedrichsort
END:VEVENT
BEGIN:VEVENT
DTSTART;TZID=Europe/Berlin:20260611T160000
DTEND;TZID=Europe/Berlin:20260611T200000
DTSTAMP:20260421T150607
CREATED:20260302T142206Z
LAST-MODIFIED:20260302T142206Z
UID:1360-1781193600-1781208000@vetts-ttschule.de
SUMMARY:VETTS-EINZELTRAINING in Kiel
DESCRIPTION:In der Zeit von 16 – 20 Uhr ist es möglich\, Einzeltraining zu buchen\, ab 30\,-€ pro 60 Minuten
URL:https://vetts-ttschule.de/event/vetts-einzeltraining-in-kiel-88/
LOCATION:Sporthalle Christliche Schule Kiel; Diesterwegstr. 20; 24113 Kiel
END:VEVENT
BEGIN:VEVENT
DTSTART;TZID=Europe/Berlin:20260616T170000
DTEND;TZID=Europe/Berlin:20260616T210000
DTSTAMP:20260421T150607
CREATED:20260313T110450Z
LAST-MODIFIED:20260313T110450Z
UID:1411-1781629200-1781643600@vetts-ttschule.de
SUMMARY:VETTS-EINZELTRAINING in Kiel
DESCRIPTION:In der Zeit von 17 – 21 Uhr ist es möglich\, Einzeltraining zu buchen\, ab 30\,-€ pro 60 Minuten
URL:https://vetts-ttschule.de/event/vetts-einzeltraining-in-kiel-103/
LOCATION:Heinrich von Stephan Schule/Lernwerft; Falklandstraße 7; 24159 Friedrichsort
END:VEVENT
BEGIN:VEVENT
DTSTART;TZID=Europe/Berlin:20260618T160000
DTEND;TZID=Europe/Berlin:20260618T200000
DTSTAMP:20260421T150607
CREATED:20260302T142311Z
LAST-MODIFIED:20260302T142311Z
UID:1362-1781798400-1781812800@vetts-ttschule.de
SUMMARY:VETTS-EINZELTRAINING in Kiel
DESCRIPTION:In der Zeit von 16 – 20 Uhr ist es möglich\, Einzeltraining zu buchen\, ab 30\,-€ pro 60 Minuten
URL:https://vetts-ttschule.de/event/vetts-einzeltraining-in-kiel-89/
LOCATION:Sporthalle Christliche Schule Kiel; Diesterwegstr. 20; 24113 Kiel
END:VEVENT
BEGIN:VEVENT
DTSTART;TZID=Europe/Berlin:20260623T170000
DTEND;TZID=Europe/Berlin:20260623T210000
DTSTAMP:20260421T150607
CREATED:20260313T110546Z
LAST-MODIFIED:20260313T110546Z
UID:1413-1782234000-1782248400@vetts-ttschule.de
SUMMARY:VETTS-EINZELTRAINING in Kiel
DESCRIPTION:In der Zeit von 17 – 21 Uhr ist es möglich\, Einzeltraining zu buchen\, ab 30\,-€ pro 60 Minuten
URL:https://vetts-ttschule.de/event/vetts-einzeltraining-in-kiel-104/
LOCATION:Heinrich von Stephan Schule/Lernwerft; Falklandstraße 7; 24159 Friedrichsort
END:VEVENT
BEGIN:VEVENT
DTSTART;TZID=Europe/Berlin:20260625T160000
DTEND;TZID=Europe/Berlin:20260625T200000
DTSTAMP:20260421T150607
CREATED:20260302T142406Z
LAST-MODIFIED:20260302T142406Z
UID:1364-1782403200-1782417600@vetts-ttschule.de
SUMMARY:VETTS-EINZELTRAINING in Kiel
DESCRIPTION:In der Zeit von 16 – 20 Uhr ist es möglich\, Einzeltraining zu buchen\, ab 30\,-€ pro 60 Minuten
URL:https://vetts-ttschule.de/event/vetts-einzeltraining-in-kiel-90/
LOCATION:Sporthalle Christliche Schule Kiel; Diesterwegstr. 20; 24113 Kiel
END:VEVENT
BEGIN:VEVENT
DTSTART;TZID=Europe/Berlin:20260630T170000
DTEND;TZID=Europe/Berlin:20260630T210000
DTSTAMP:20260421T150607
CREATED:20260313T110637Z
LAST-MODIFIED:20260313T110637Z
UID:1415-1782838800-1782853200@vetts-ttschule.de
SUMMARY:VETTS-EINZELTRAINING in Kiel
DESCRIPTION:In der Zeit von 17 – 21 Uhr ist es möglich\, Einzeltraining zu buchen\, ab 30\,-€ pro 60 Minuten
URL:https://vetts-ttschule.de/event/vetts-einzeltraining-in-kiel-105/
LOCATION:Heinrich von Stephan Schule/Lernwerft; Falklandstraße 7; 24159 Friedrichsort
END:VEVENT
BEGIN:VEVENT
DTSTART;TZID=Europe/Berlin:20260702T160000
DTEND;TZID=Europe/Berlin:20260702T200000
DTSTAMP:20260421T150607
CREATED:20260302T142513Z
LAST-MODIFIED:20260302T142513Z
UID:1366-1783008000-1783022400@vetts-ttschule.de
SUMMARY:VETTS-EINZELTRAINING in Kiel
DESCRIPTION:In der Zeit von 16 – 20 Uhr ist es möglich\, Einzeltraining zu buchen\, ab 30\,-€ pro 60 Minuten
URL:https://vetts-ttschule.de/event/vetts-einzeltraining-in-kiel-91/
LOCATION:Sporthalle Christliche Schule Kiel; Diesterwegstr. 20; 24113 Kiel
END:VEVENT
BEGIN:VEVENT
DTSTART;TZID=Europe/Berlin:20260707T170000
DTEND;TZID=Europe/Berlin:20260707T210000
DTSTAMP:20260421T150607
CREATED:20260415T150110Z
LAST-MODIFIED:20260415T150110Z
UID:1536-1783443600-1783458000@vetts-ttschule.de
SUMMARY:VETTS-Einzeltraining in Kiel
DESCRIPTION:In der Zeit von 17 – 21 Uhr ist es möglich\, Einzeltraining zu buchen\, ab 30\,-€ pro 60 Minuten
URL:https://vetts-ttschule.de/event/vetts-einzeltraining-in-kiel-153/
LOCATION:Heinrich von Stephan Schule/Lernwerft; Falklandstraße 7; 24159 Friedrichsort
END:VEVENT
BEGIN:VEVENT
DTSTART;TZID=Europe/Berlin:20260709T160000
DTEND;TZID=Europe/Berlin:20260709T200000
DTSTAMP:20260421T150607
CREATED:20260415T150011Z
LAST-MODIFIED:20260415T150011Z
UID:1534-1783612800-1783627200@vetts-ttschule.de
SUMMARY:VETTS-Einzeltraining in Kiel
DESCRIPTION:In der Zeit von 16 – 20 Uhr ist es möglich\, Einzeltraining zu buchen\, ab 30\,-€ pro 60 Minuten
URL:https://vetts-ttschule.de/event/vetts-einzeltraining-in-kiel-152/
LOCATION:Sporthalle Christliche Schule Kiel; Diesterwegstr. 20; 24113 Kiel
END:VEVENT
BEGIN:VEVENT
DTSTART;TZID=Europe/Berlin:20260714T170000
DTEND;TZID=Europe/Berlin:20260714T210000
DTSTAMP:20260421T150607
CREATED:20260415T145916Z
LAST-MODIFIED:20260415T145916Z
UID:1532-1784048400-1784062800@vetts-ttschule.de
SUMMARY:VETTS-Einzeltraining in Kiel
DESCRIPTION:In der Zeit von 17 – 21 Uhr ist es möglich\, Einzeltraining zu buchen\, ab 30\,-€ pro 60 Minuten
URL:https://vetts-ttschule.de/event/vetts-einzeltraining-in-kiel-151/
LOCATION:Heinrich von Stephan Schule/Lernwerft; Falklandstraße 7; 24159 Friedrichsort
END:VEVENT
BEGIN:VEVENT
DTSTART;TZID=Europe/Berlin:20260716T160000
DTEND;TZID=Europe/Berlin:20260716T200000
DTSTAMP:20260421T150607
CREATED:20260415T145649Z
LAST-MODIFIED:20260415T145816Z
UID:1528-1784217600-1784232000@vetts-ttschule.de
SUMMARY:VETTS-Einzeltraining in Kiel
DESCRIPTION:In der Zeit von 16 – 20 Uhr ist es möglich\, Einzeltraining zu buchen\, ab 30\,-€ pro 60 Minuten
URL:https://vetts-ttschule.de/event/vetts-einzeltraining-in-kiel-150/
LOCATION:Sporthalle Christliche Schule Kiel; Diesterwegstr. 20; 24113 Kiel
END:VEVENT
BEGIN:VEVENT
DTSTART;TZID=Europe/Berlin:20260721T170000
DTEND;TZID=Europe/Berlin:20260721T210000
DTSTAMP:20260421T150607
CREATED:20260415T145539Z
LAST-MODIFIED:20260415T150237Z
UID:1526-1784653200-1784667600@vetts-ttschule.de
SUMMARY:VETTS-Einzeltraining in Kiel
DESCRIPTION:In der Zeit von 17 – 21 Uhr ist es möglich\, Einzeltraining zu buchen\, ab 30\,-€ pro 60 Minuten
URL:https://vetts-ttschule.de/event/vetts-einzeltraining-in-kiel-149/
LOCATION:Heinrich von Stephan Schule/Lernwerft; Falklandstraße 7; 24159 Friedrichsort
END:VEVENT
BEGIN:VEVENT
DTSTART;TZID=Europe/Berlin:20260723T160000
DTEND;TZID=Europe/Berlin:20260723T200000
DTSTAMP:20260421T150607
CREATED:20260415T145431Z
LAST-MODIFIED:20260415T145431Z
UID:1524-1784822400-1784836800@vetts-ttschule.de
SUMMARY:VETTS-Einzeltraining in Kiel
DESCRIPTION:In der Zeit von 16 – 20 Uhr ist es möglich\, Einzeltraining zu buchen\, ab 30\,-€ pro 60 Minuten
URL:https://vetts-ttschule.de/event/vetts-einzeltraining-in-kiel-148/
LOCATION:Sporthalle Christliche Schule Kiel; Diesterwegstr. 20; 24113 Kiel
END:VEVENT
BEGIN:VEVENT
DTSTART;TZID=Europe/Berlin:20260728T170000
DTEND;TZID=Europe/Berlin:20260728T210000
DTSTAMP:20260421T150607
CREATED:20260415T145342Z
LAST-MODIFIED:20260415T145342Z
UID:1522-1785258000-1785272400@vetts-ttschule.de
SUMMARY:VETTS-Einzeltraining in Kiel
DESCRIPTION:In der Zeit von 17 – 21 Uhr ist es möglich\, Einzeltraining zu buchen\, ab 30\,-€ pro 60 Minuten
URL:https://vetts-ttschule.de/event/vetts-einzeltraining-in-kiel-147/
LOCATION:Heinrich von Stephan Schule/Lernwerft; Falklandstraße 7; 24159 Friedrichsort
END:VEVENT
BEGIN:VEVENT
DTSTART;TZID=Europe/Berlin:20260730T160000
DTEND;TZID=Europe/Berlin:20260730T200000
DTSTAMP:20260421T150607
CREATED:20260415T145138Z
LAST-MODIFIED:20260415T145138Z
UID:1520-1785427200-1785441600@vetts-ttschule.de
SUMMARY:VETTS-Einzeltraining in Kiel
DESCRIPTION:In der Zeit von 16 – 20 Uhr ist es möglich\, Einzeltraining zu buchen\, ab 30\,-€ pro 60 Minuten\n\n\n\n\n\n\n 
URL:https://vetts-ttschule.de/event/vetts-einzeltraining-in-kiel-146/
LOCATION:Sporthalle Christliche Schule Kiel; Diesterwegstr. 20; 24113 Kiel
END:VEVENT
BEGIN:VEVENT
DTSTART;TZID=Europe/Berlin:20260804T170000
DTEND;TZID=Europe/Berlin:20260804T210000
DTSTAMP:20260421T150607
CREATED:20260313T110913Z
LAST-MODIFIED:20260313T110913Z
UID:1417-1785862800-1785877200@vetts-ttschule.de
SUMMARY:VETTS-EINZELTRAINING in Kiel
DESCRIPTION:In der Zeit von 17 – 21 Uhr ist es möglich\, Einzeltraining zu buchen\, ab 30\,-€ pro 60 Minuten
URL:https://vetts-ttschule.de/event/vetts-einzeltraining-in-kiel-106/
LOCATION:Heinrich von Stephan Schule/Lernwerft; Falklandstraße 7; 24159 Friedrichsort
END:VEVENT
BEGIN:VEVENT
DTSTART;TZID=Europe/Berlin:20260806T160000
DTEND;TZID=Europe/Berlin:20260806T200000
DTSTAMP:20260421T150607
CREATED:20260313T111022Z
LAST-MODIFIED:20260415T144610Z
UID:1419-1786032000-1786046400@vetts-ttschule.de
SUMMARY:VETTS-EINZELTRAINING in Kiel
DESCRIPTION:In der Zeit von 16 – 20 Uhr ist es möglich\, Einzeltraining zu buchen\, ab 30\,-€ pro 60 Minuten
URL:https://vetts-ttschule.de/event/vetts-einzeltraining-in-kiel-107/
LOCATION:Sporthalle Christliche Schule Kiel; Diesterwegstr. 20; 24113 Kiel
END:VEVENT
BEGIN:VEVENT
DTSTART;TZID=Europe/Berlin:20260811T170000
DTEND;TZID=Europe/Berlin:20260811T210000
DTSTAMP:20260421T150607
CREATED:20260313T111124Z
LAST-MODIFIED:20260313T111124Z
UID:1421-1786467600-1786482000@vetts-ttschule.de
SUMMARY:VETTS-EINZELTRAINING in Kiel
DESCRIPTION:In der Zeit von 17 – 21 Uhr ist es möglich\, Einzeltraining zu buchen\, ab 30\,-€ pro 60 Minuten
URL:https://vetts-ttschule.de/event/vetts-einzeltraining-in-kiel-108/
LOCATION:Heinrich von Stephan Schule/Lernwerft; Falklandstraße 7; 24159 Friedrichsort
END:VEVENT
BEGIN:VEVENT
DTSTART;TZID=Europe/Berlin:20260813T160000
DTEND;TZID=Europe/Berlin:20260813T200000
DTSTAMP:20260421T150607
CREATED:20260313T111237Z
LAST-MODIFIED:20260415T144533Z
UID:1423-1786636800-1786651200@vetts-ttschule.de
SUMMARY:VETTS-EINZELTRAINING in Kiel
DESCRIPTION:In der Zeit von 16 – 20 Uhr ist es möglich\, Einzeltraining zu buchen\, ab 30\,-€ pro 60 Minuten
URL:https://vetts-ttschule.de/event/vetts-einzeltraining-in-kiel-109/
LOCATION:Sporthalle Christliche Schule Kiel; Diesterwegstr. 20; 24113 Kiel
END:VEVENT
BEGIN:VEVENT
DTSTART;TZID=Europe/Berlin:20260818T170000
DTEND;TZID=Europe/Berlin:20260818T210000
DTSTAMP:20260421T150607
CREATED:20260313T111411Z
LAST-MODIFIED:20260313T111411Z
UID:1425-1787072400-1787086800@vetts-ttschule.de
SUMMARY:VETTS-EINZELTRAINING in Kiel
DESCRIPTION:In der Zeit von 17 – 21 Uhr ist es möglich\, Einzeltraining zu buchen\, ab 30\,-€ pro 60 Minuten
URL:https://vetts-ttschule.de/event/vetts-einzeltraining-in-kiel-110/
LOCATION:Heinrich von Stephan Schule/Lernwerft; Falklandstraße 7; 24159 Friedrichsort
END:VEVENT
BEGIN:VEVENT
DTSTART;TZID=Europe/Berlin:20260820T160000
DTEND;TZID=Europe/Berlin:20260820T200000
DTSTAMP:20260421T150607
CREATED:20260313T111502Z
LAST-MODIFIED:20260415T144451Z
UID:1427-1787241600-1787256000@vetts-ttschule.de
SUMMARY:VETTS-EINZELTRAINING in Kiel
DESCRIPTION:In der Zeit von 16 – 20 Uhr ist es möglich\, Einzeltraining zu buchen\, ab 30\,-€ pro 60 Minuten
URL:https://vetts-ttschule.de/event/vetts-einzeltraining-in-kiel-111/
LOCATION:Sporthalle Christliche Schule Kiel; Diesterwegstr. 20; 24113 Kiel
END:VEVENT
BEGIN:VEVENT
DTSTART;TZID=Europe/Berlin:20260825T170000
DTEND;TZID=Europe/Berlin:20260825T210000
DTSTAMP:20260421T150607
CREATED:20260313T111600Z
LAST-MODIFIED:20260313T111600Z
UID:1429-1787677200-1787691600@vetts-ttschule.de
SUMMARY:VETTS-EINZELTRAINING in Kiel
DESCRIPTION:In der Zeit von 17 – 21 Uhr ist es möglich\, Einzeltraining zu buchen\, ab 30\,-€ pro 60 Minuten
URL:https://vetts-ttschule.de/event/vetts-einzeltraining-in-kiel-112/
LOCATION:Heinrich von Stephan Schule/Lernwerft; Falklandstraße 7; 24159 Friedrichsort
END:VEVENT
BEGIN:VEVENT
DTSTART;TZID=Europe/Berlin:20260827T160000
DTEND;TZID=Europe/Berlin:20260827T200000
DTSTAMP:20260421T150607
CREATED:20260313T111706Z
LAST-MODIFIED:20260415T144356Z
UID:1431-1787846400-1787860800@vetts-ttschule.de
SUMMARY:VETTS-EINZELTRAINING in Kiel
DESCRIPTION:In der Zeit von 16 – 20 Uhr ist es möglich\, Einzeltraining zu buchen\, ab 30\,-€ pro 60 Minuten
URL:https://vetts-ttschule.de/event/vetts-einzeltraining-in-kiel-113/
LOCATION:Sporthalle Christliche Schule Kiel; Diesterwegstr. 20; 24113 Kiel
END:VEVENT
BEGIN:VEVENT
DTSTART;TZID=Europe/Berlin:20260901T170000
DTEND;TZID=Europe/Berlin:20260901T210000
DTSTAMP:20260421T150607
CREATED:20260313T111839Z
LAST-MODIFIED:20260313T111839Z
UID:1433-1788282000-1788296400@vetts-ttschule.de
SUMMARY:VETTS-EINZELTRAINING in Kiel
DESCRIPTION:In der Zeit von 17 – 21 Uhr ist es möglich\, Einzeltraining zu buchen\, ab 30\,-€ pro 60 Minuten
URL:https://vetts-ttschule.de/event/vetts-einzeltraining-in-kiel-114/
LOCATION:Heinrich von Stephan Schule/Lernwerft; Falklandstraße 7; 24159 Friedrichsort
END:VEVENT
BEGIN:VEVENT
DTSTART;TZID=Europe/Berlin:20260903T160000
DTEND;TZID=Europe/Berlin:20260903T200000
DTSTAMP:20260421T150607
CREATED:20260313T111930Z
LAST-MODIFIED:20260415T144254Z
UID:1435-1788451200-1788465600@vetts-ttschule.de
SUMMARY:VETTS-EINZELTRAINING in Kiel
DESCRIPTION:In der Zeit von 16 – 20 Uhr ist es möglich\, Einzeltraining zu buchen\, ab 30\,-€ pro 60 Minuten
URL:https://vetts-ttschule.de/event/vetts-einzeltraining-in-kiel-115/
LOCATION:Sporthalle Christliche Schule Kiel; Diesterwegstr. 20; 24113 Kiel
END:VEVENT
END:VCALENDAR