BEGIN:VCALENDAR
VERSION:2.0
PRODID:-//VETTS Veli Erdogan TischTennis Schule - ECPv6.4.0.1//NONSGML v1.0//EN
CALSCALE:GREGORIAN
METHOD:PUBLISH
X-WR-CALNAME:VETTS Veli Erdogan TischTennis Schule
X-ORIGINAL-URL:https://vetts-ttschule.de
X-WR-CALDESC:Veranstaltungen für VETTS Veli Erdogan TischTennis Schule
REFRESH-INTERVAL;VALUE=DURATION:PT1H
X-Robots-Tag:noindex
X-PUBLISHED-TTL:PT1H
BEGIN:VTIMEZONE
TZID:Europe/Berlin
BEGIN:DAYLIGHT
TZOFFSETFROM:+0100
TZOFFSETTO:+0200
TZNAME:CEST
DTSTART:20240331T010000
END:DAYLIGHT
BEGIN:STANDARD
TZOFFSETFROM:+0200
TZOFFSETTO:+0100
TZNAME:CET
DTSTART:20241027T010000
END:STANDARD
END:VTIMEZONE
BEGIN:VEVENT
DTSTART;TZID=Europe/Berlin:20240704T160000
DTEND;TZID=Europe/Berlin:20240704T200000
DTSTAMP:20260423T023657
CREATED:20240615T083518Z
LAST-MODIFIED:20240615T083724Z
UID:1131-1720108800-1720123200@vetts-ttschule.de
SUMMARY:VETTS-EINZELTRAINING in Kiel
DESCRIPTION:In der Zeit von 16 – 20 Uhr ist es möglich\, Einzeltraining zu buchen. \nab 25\,-€ pro 60 Minuten
URL:https://vetts-ttschule.de/event/vetts-einzeltraining-in-kiel-12/
LOCATION:Sporthalle Christliche Schule Kiel; Diesterwegstr. 20; 24113 Kiel
END:VEVENT
BEGIN:VEVENT
DTSTART;TZID=Europe/Berlin:20240711T160000
DTEND;TZID=Europe/Berlin:20240711T200000
DTSTAMP:20260423T023657
CREATED:20240615T083857Z
LAST-MODIFIED:20240615T083857Z
UID:1133-1720713600-1720728000@vetts-ttschule.de
SUMMARY:VETTS-EINZELTRAINING in Kiel
DESCRIPTION:In der Zeit von 16 – 20 Uhr ist es möglich\, Einzeltraining zu buchen. \nab 25\,-€ pro 60 Minuten
URL:https://vetts-ttschule.de/event/vetts-einzeltraining-in-kiel-13/
LOCATION:Sporthalle Christliche Schule Kiel; Diesterwegstr. 20; 24113 Kiel
END:VEVENT
BEGIN:VEVENT
DTSTART;TZID=Europe/Berlin:20240714T110000
DTEND;TZID=Europe/Berlin:20240714T133000
DTSTAMP:20260423T023657
CREATED:20240629T093139Z
LAST-MODIFIED:20240629T093139Z
UID:1187-1720954800-1720963800@vetts-ttschule.de
SUMMARY:VETTS-LEHRGANG in Schleswig
DESCRIPTION:Lehrgangsgebühr: 15\,-€
URL:https://vetts-ttschule.de/event/vetts-lehrgang-in-schleswig-2/
LOCATION:Sporthalle Bugenhagenschule; Friedrichstraße 103 ;	24837 Schleswig
END:VEVENT
BEGIN:VEVENT
DTSTART;TZID=Europe/Berlin:20240718T160000
DTEND;TZID=Europe/Berlin:20240718T200000
DTSTAMP:20260423T023657
CREATED:20240615T084156Z
LAST-MODIFIED:20240615T084156Z
UID:1137-1721318400-1721332800@vetts-ttschule.de
SUMMARY:VETTS-EINZELTRAINING in Kiel
DESCRIPTION:In der Zeit von 16 – 20 Uhr ist es möglich\, Einzeltraining zu buchen. \nab 25\,-€ pro 60 Minuten
URL:https://vetts-ttschule.de/event/vetts-einzeltraining-in-kiel-15/
LOCATION:Sporthalle Christliche Schule Kiel; Diesterwegstr. 20; 24113 Kiel
END:VEVENT
BEGIN:VEVENT
DTSTART;TZID=Europe/Berlin:20240722T100000
DTEND;TZID=Europe/Berlin:20240726T140000
DTSTAMP:20260423T023657
CREATED:20240415T101309Z
LAST-MODIFIED:20240415T101309Z
UID:1102-1721642400-1722002400@vetts-ttschule.de
SUMMARY:VETTS-SOMMERLEHRGANG in Raisdorf vom 22.07. - 26.07.2024
DESCRIPTION:Lehrgangskosten: 150\,-€ \nMontag – Freitag von 10:00 Uhr bis 14:00 Uhr \nAnmeldung auch tageweise möglich\, Lehrgangskosten pro Tag 35\,-€ \n 
URL:https://vetts-ttschule.de/event/vetts-sommerlehrgang-in-raisdorf-vom-22-07-26-07-2024/
LOCATION:Utoxeter Halle\, Zum See 24\, Raisdorf\, Zum See 24\, Raisdorf\, Deutschland
END:VEVENT
BEGIN:VEVENT
DTSTART;TZID=Europe/Berlin:20240725T160000
DTEND;TZID=Europe/Berlin:20240725T200000
DTSTAMP:20260423T023657
CREATED:20240615T084005Z
LAST-MODIFIED:20240615T084043Z
UID:1135-1721923200-1721937600@vetts-ttschule.de
SUMMARY:VETTS-EINZELTRAINING in Kiel
DESCRIPTION:In der Zeit von 16 – 20 Uhr ist es möglich\, Einzeltraining zu buchen. \nab 25\,-€ pro 60 Minuten
URL:https://vetts-ttschule.de/event/vetts-einzeltraining-in-kiel-14/
LOCATION:Sporthalle Christliche Schule Kiel; Diesterwegstr. 20; 24113 Kiel
END:VEVENT
END:VCALENDAR