BEGIN:VCALENDAR
VERSION:2.0
PRODID:-//VETTS Veli Erdogan TischTennis Schule - ECPv6.4.0.1//NONSGML v1.0//EN
CALSCALE:GREGORIAN
METHOD:PUBLISH
X-WR-CALNAME:VETTS Veli Erdogan TischTennis Schule
X-ORIGINAL-URL:https://vetts-ttschule.de
X-WR-CALDESC:Veranstaltungen für VETTS Veli Erdogan TischTennis Schule
REFRESH-INTERVAL;VALUE=DURATION:PT1H
X-Robots-Tag:noindex
X-PUBLISHED-TTL:PT1H
BEGIN:VTIMEZONE
TZID:Europe/Berlin
BEGIN:DAYLIGHT
TZOFFSETFROM:+0100
TZOFFSETTO:+0200
TZNAME:CEST
DTSTART:20240331T010000
END:DAYLIGHT
BEGIN:STANDARD
TZOFFSETFROM:+0200
TZOFFSETTO:+0100
TZNAME:CET
DTSTART:20241027T010000
END:STANDARD
END:VTIMEZONE
BEGIN:VEVENT
DTSTART;TZID=Europe/Berlin:20240801T160000
DTEND;TZID=Europe/Berlin:20240801T200000
DTSTAMP:20260423T005217
CREATED:20240615T084418Z
LAST-MODIFIED:20240615T084503Z
UID:1141-1722528000-1722542400@vetts-ttschule.de
SUMMARY:VETTS-EINZELTRAINING in Kiel
DESCRIPTION:In der Zeit von 16 – 20 Uhr ist es möglich\, Einzeltraining zu buchen. \nab 25\,-€ pro 60 Minuten
URL:https://vetts-ttschule.de/event/vetts-einzeltraining-in-kiel-16/
LOCATION:Sporthalle Christliche Schule Kiel; Diesterwegstr. 20; 24113 Kiel
END:VEVENT
BEGIN:VEVENT
DTSTART;TZID=Europe/Berlin:20240808T160000
DTEND;TZID=Europe/Berlin:20240808T200000
DTSTAMP:20260423T005217
CREATED:20240615T090702Z
LAST-MODIFIED:20240615T090825Z
UID:1145-1723132800-1723147200@vetts-ttschule.de
SUMMARY:VETTS-EINZELTRAINING in Kiel
DESCRIPTION:In der Zeit von 16 – 20 Uhr ist es möglich\, Einzeltraining zu buchen. \nab 25\,-€ pro 60 Minuten
URL:https://vetts-ttschule.de/event/vetts-einzeltraining-in-kiel-18/
LOCATION:Sporthalle Christliche Schule Kiel; Diesterwegstr. 20; 24113 Kiel
END:VEVENT
BEGIN:VEVENT
DTSTART;TZID=Europe/Berlin:20240812T100000
DTEND;TZID=Europe/Berlin:20240816T140000
DTSTAMP:20260423T005217
CREATED:20240629T090034Z
LAST-MODIFIED:20240629T090148Z
UID:1185-1723456800-1723816800@vetts-ttschule.de
SUMMARY:VETTS-SOMMERLEHRGANG in Boostedt vom 12.08. – 16.08.2024
DESCRIPTION:Lehrgangskosten: 150\,-€ \nMontag – Freitag von 10:00 Uhr bis 14:00 Uhr \nAnmeldung auch tageweise möglich\, Lehrgangskosten pro Tag 35\,-€
URL:https://vetts-ttschule.de/event/vetts-sommerlehrgang-in-boostedt-vom-12-08-16-08-2024/
LOCATION:Siegfried-Steffensen-Sporthalle\, Ecke Twiete/Schlesienstr.\, Boostedt\, 24598\, Deutschland
END:VEVENT
BEGIN:VEVENT
DTSTART;TZID=Europe/Berlin:20240815T160000
DTEND;TZID=Europe/Berlin:20240815T200000
DTSTAMP:20260423T005217
CREATED:20240615T091152Z
LAST-MODIFIED:20240615T091152Z
UID:1147-1723737600-1723752000@vetts-ttschule.de
SUMMARY:VETTS-EINZELTRAINING in Kiel
DESCRIPTION:In der Zeit von 16 – 20 Uhr ist es möglich\, Einzeltraining zu buchen. \nab 25\,-€ pro 60 Minute
URL:https://vetts-ttschule.de/event/vetts-einzeltraining-in-kiel-17/
LOCATION:Sporthalle Christliche Schule Kiel; Diesterwegstr. 20; 24113 Kiel
END:VEVENT
BEGIN:VEVENT
DTSTART;TZID=Europe/Berlin:20240822T160000
DTEND;TZID=Europe/Berlin:20240822T200000
DTSTAMP:20260423T005217
CREATED:20240615T091325Z
LAST-MODIFIED:20240615T091325Z
UID:1149-1724342400-1724356800@vetts-ttschule.de
SUMMARY:VETTS-EINZELTRAINING in Kiel
DESCRIPTION:In der Zeit von 16 – 20 Uhr ist es möglich\, Einzeltraining zu buchen. \nab 25\,-€ pro 60 Minuten
URL:https://vetts-ttschule.de/event/vetts-einzeltraining-in-kiel-19/
LOCATION:Sporthalle Christliche Schule Kiel; Diesterwegstr. 20; 24113 Kiel
END:VEVENT
BEGIN:VEVENT
DTSTART;TZID=Europe/Berlin:20240829T160000
DTEND;TZID=Europe/Berlin:20240829T200000
DTSTAMP:20260423T005217
CREATED:20240615T091717Z
LAST-MODIFIED:20240615T091717Z
UID:1151-1724947200-1724961600@vetts-ttschule.de
SUMMARY:VETTS-EINZELTRAINING in Kiel
DESCRIPTION:In der Zeit von 16 – 20 Uhr ist es möglich\, Einzeltraining zu buchen. \nab 25\,-€ pro 60 Minuten
URL:https://vetts-ttschule.de/event/vetts-einzeltraining-in-kiel-20/
LOCATION:Sporthalle Christliche Schule Kiel; Diesterwegstr. 20; 24113 Kiel
END:VEVENT
END:VCALENDAR