BEGIN:VCALENDAR
VERSION:2.0
PRODID:-//VETTS Veli Erdogan TischTennis Schule - ECPv6.4.0.1//NONSGML v1.0//EN
CALSCALE:GREGORIAN
METHOD:PUBLISH
X-ORIGINAL-URL:https://vetts-ttschule.de
X-WR-CALDESC:Veranstaltungen für VETTS Veli Erdogan TischTennis Schule
REFRESH-INTERVAL;VALUE=DURATION:PT1H
X-Robots-Tag:noindex
X-PUBLISHED-TTL:PT1H
BEGIN:VTIMEZONE
TZID:Europe/Berlin
BEGIN:DAYLIGHT
TZOFFSETFROM:+0100
TZOFFSETTO:+0200
TZNAME:CEST
DTSTART:20250330T010000
END:DAYLIGHT
BEGIN:STANDARD
TZOFFSETFROM:+0200
TZOFFSETTO:+0100
TZNAME:CET
DTSTART:20251026T010000
END:STANDARD
END:VTIMEZONE
BEGIN:VEVENT
DTSTART;TZID=Europe/Berlin:20250102T160000
DTEND;TZID=Europe/Berlin:20250102T200000
DTSTAMP:20260422T160630
CREATED:20241228T112023Z
LAST-MODIFIED:20241228T112023Z
UID:1211-1735833600-1735848000@vetts-ttschule.de
SUMMARY:VETTS-EINZELTRAINING in Kiel
DESCRIPTION:In der Zeit von 16 – 20 Uhr ist es möglich\, Einzeltraining zu buchen. ab 25\,-€ pro 60 Minuten
URL:https://vetts-ttschule.de/event/vetts-einzeltraining-in-kiel-36/
LOCATION:Sporthalle Christliche Schule Kiel; Diesterwegstr. 20; 24113 Kiel
END:VEVENT
BEGIN:VEVENT
DTSTART;TZID=Europe/Berlin:20250106T100000
DTEND;TZID=Europe/Berlin:20250106T140000
DTSTAMP:20260422T160630
CREATED:20241228T121010Z
LAST-MODIFIED:20241228T121010Z
UID:1273-1736157600-1736172000@vetts-ttschule.de
SUMMARY:VETTS RÜCKRUNDEN-VORBEREITUNGSLEHRGANG in Raisdorf vom 06.01+07.01.2025
DESCRIPTION:Lehrgangskosten: 60\,-€ \nMontag + Dienstag von 10:00 Uhr bis 14:00 Uhr \nAnmeldung auch tageweise möglich\, Lehrgangskosten pro Tag 35\,-€
URL:https://vetts-ttschule.de/event/vetts-rueckrunden-vorbereitungslehrgang-in-raisdorf-vom-06-0107-01-2025/
LOCATION:Utoxeter Halle\, Zum See 24\, Raisdorf\, Zum See 24\, Raisdorf\, Deutschland
END:VEVENT
BEGIN:VEVENT
DTSTART;TZID=Europe/Berlin:20250107T100000
DTEND;TZID=Europe/Berlin:20250107T140000
DTSTAMP:20260422T160630
CREATED:20241228T121218Z
LAST-MODIFIED:20241228T121218Z
UID:1275-1736244000-1736258400@vetts-ttschule.de
SUMMARY:VETTS RÜCKRUNDEN-VORBEREITUNGSLEHRGANG in Raisdorf vom 06.01+07.01.2025
DESCRIPTION:Lehrgangskosten: 60\,-€ \nMontag + Dienstag von 10:00 Uhr bis 14:00 Uhr \nAnmeldung auch tageweise möglich\, Lehrgangskosten pro Tag 35\,-€
URL:https://vetts-ttschule.de/event/vetts-rueckrunden-vorbereitungslehrgang-in-raisdorf-vom-06-0107-01-2025-2/
LOCATION:Utoxeter Halle\, Zum See 24\, Raisdorf\, Zum See 24\, Raisdorf\, Deutschland
END:VEVENT
BEGIN:VEVENT
DTSTART;TZID=Europe/Berlin:20250109T160000
DTEND;TZID=Europe/Berlin:20250109T200000
DTSTAMP:20260422T160630
CREATED:20241228T112353Z
LAST-MODIFIED:20241228T112353Z
UID:1214-1736438400-1736452800@vetts-ttschule.de
SUMMARY:VETTS-EINZELTRAINING in Kiel
DESCRIPTION:In der Zeit von 16 – 20 Uhr ist es möglich\, Einzeltraining zu buchen. ab 25\,-€ pro 60 Minuten
URL:https://vetts-ttschule.de/event/vetts-einzeltraining-in-kiel-37/
LOCATION:Sporthalle Christliche Schule Kiel; Diesterwegstr. 20; 24113 Kiel
END:VEVENT
BEGIN:VEVENT
DTSTART;TZID=Europe/Berlin:20250111T110000
DTEND;TZID=Europe/Berlin:20250111T133000
DTSTAMP:20260422T160630
CREATED:20241228T121748Z
LAST-MODIFIED:20241228T121748Z
UID:1277-1736593200-1736602200@vetts-ttschule.de
SUMMARY:VETTS-LEHRGANG in Flensburg
DESCRIPTION:Lehrgangsgebühr: 15\,-€
URL:https://vetts-ttschule.de/event/vetts-lehrgang-in-flensburg-2/
LOCATION:Petrihalle\, Apenrader Str. 164\, Flensburg\, 24939\, Deutschland
END:VEVENT
BEGIN:VEVENT
DTSTART;TZID=Europe/Berlin:20250116T160000
DTEND;TZID=Europe/Berlin:20250116T200000
DTSTAMP:20260422T160630
CREATED:20241228T112708Z
LAST-MODIFIED:20241228T112708Z
UID:1216-1737043200-1737057600@vetts-ttschule.de
SUMMARY:VETTS-EINZELTRAINING in Kiel
DESCRIPTION:In der Zeit von 16 – 20 Uhr ist es möglich\, Einzeltraining zu buchen. ab 25\,-€ pro 60 Minuten
URL:https://vetts-ttschule.de/event/vetts-einzeltraining-in-kiel-38/
LOCATION:Sporthalle Christliche Schule Kiel; Diesterwegstr. 20; 24113 Kiel
END:VEVENT
BEGIN:VEVENT
DTSTART;TZID=Europe/Berlin:20250123T160000
DTEND;TZID=Europe/Berlin:20250123T200000
DTSTAMP:20260422T160630
CREATED:20241228T112818Z
LAST-MODIFIED:20241228T112818Z
UID:1219-1737648000-1737662400@vetts-ttschule.de
SUMMARY:VETTS-EINZELTRAINING in Kiel
DESCRIPTION:In der Zeit von 16 – 20 Uhr ist es möglich\, Einzeltraining zu buchen. ab 25\,-€ pro 60 Minuten
URL:https://vetts-ttschule.de/event/vetts-einzeltraining-in-kiel-39/
LOCATION:Sporthalle Christliche Schule Kiel; Diesterwegstr. 20; 24113 Kiel
END:VEVENT
BEGIN:VEVENT
DTSTART;TZID=Europe/Berlin:20250130T160000
DTEND;TZID=Europe/Berlin:20250130T200000
DTSTAMP:20260422T160630
CREATED:20241228T112925Z
LAST-MODIFIED:20241228T112925Z
UID:1222-1738252800-1738267200@vetts-ttschule.de
SUMMARY:VETTS-EINZELTRAINING in Kiel
DESCRIPTION:In der Zeit von 16 – 20 Uhr ist es möglich\, Einzeltraining zu buchen. ab 25\,-€ pro 60 Minuten
URL:https://vetts-ttschule.de/event/vetts-einzeltraining-in-kiel-40/
LOCATION:Sporthalle Christliche Schule Kiel; Diesterwegstr. 20; 24113 Kiel
END:VEVENT
END:VCALENDAR