BEGIN:VCALENDAR
VERSION:2.0
PRODID:-//VETTS Veli Erdogan TischTennis Schule - ECPv6.4.0.1//NONSGML v1.0//EN
CALSCALE:GREGORIAN
METHOD:PUBLISH
X-WR-CALNAME:VETTS Veli Erdogan TischTennis Schule
X-ORIGINAL-URL:https://vetts-ttschule.de
X-WR-CALDESC:Veranstaltungen für VETTS Veli Erdogan TischTennis Schule
REFRESH-INTERVAL;VALUE=DURATION:PT1H
X-Robots-Tag:noindex
X-PUBLISHED-TTL:PT1H
BEGIN:VTIMEZONE
TZID:Europe/Berlin
BEGIN:DAYLIGHT
TZOFFSETFROM:+0100
TZOFFSETTO:+0200
TZNAME:CEST
DTSTART:20250330T010000
END:DAYLIGHT
BEGIN:STANDARD
TZOFFSETFROM:+0200
TZOFFSETTO:+0100
TZNAME:CET
DTSTART:20251026T010000
END:STANDARD
END:VTIMEZONE
BEGIN:VEVENT
DTSTART;TZID=Europe/Berlin:20250703T160000
DTEND;TZID=Europe/Berlin:20250703T200000
DTSTAMP:20260422T060426
CREATED:20241228T120120Z
LAST-MODIFIED:20241228T120120Z
UID:1265-1751558400-1751572800@vetts-ttschule.de
SUMMARY:VETTS-EINZELTRAINING in Kiel
DESCRIPTION:In der Zeit von 16 – 20 Uhr ist es möglich\, Einzeltraining zu buchen. ab 25\,-€ pro 60 Minuten
URL:https://vetts-ttschule.de/event/vetts-einzeltraining-in-kiel-61/
LOCATION:Sporthalle Christliche Schule Kiel; Diesterwegstr. 20; 24113 Kiel
END:VEVENT
BEGIN:VEVENT
DTSTART;TZID=Europe/Berlin:20250710T160000
DTEND;TZID=Europe/Berlin:20250710T200000
DTSTAMP:20260422T060426
CREATED:20241228T120300Z
LAST-MODIFIED:20241228T120300Z
UID:1267-1752163200-1752177600@vetts-ttschule.de
SUMMARY:VETTS-EINZELTRAINING in Kiel
DESCRIPTION:In der Zeit von 16 – 20 Uhr ist es möglich\, Einzeltraining zu buchen. ab 25\,-€ pro 60 Minuten
URL:https://vetts-ttschule.de/event/vetts-einzeltraining-in-kiel-62/
LOCATION:Sporthalle Christliche Schule Kiel; Diesterwegstr. 20; 24113 Kiel
END:VEVENT
BEGIN:VEVENT
DTSTART;TZID=Europe/Berlin:20250717T160000
DTEND;TZID=Europe/Berlin:20250717T200000
DTSTAMP:20260422T060426
CREATED:20241228T120354Z
LAST-MODIFIED:20241228T120354Z
UID:1269-1752768000-1752782400@vetts-ttschule.de
SUMMARY:VETTS-EINZELTRAINING in Kiel
DESCRIPTION:In der Zeit von 16 – 20 Uhr ist es möglich\, Einzeltraining zu buchen. ab 25\,-€ pro 60 Minuten
URL:https://vetts-ttschule.de/event/vetts-einzeltraining-in-kiel-63/
LOCATION:Sporthalle Christliche Schule Kiel; Diesterwegstr. 20; 24113 Kiel
END:VEVENT
BEGIN:VEVENT
DTSTART;VALUE=DATE:20250728
DTEND;VALUE=DATE:20250802
DTSTAMP:20260422T060426
CREATED:20250130T123306Z
LAST-MODIFIED:20250307T164641Z
UID:1282-1753660800-1754092799@vetts-ttschule.de
SUMMARY:VETTS-SOMMERLEHRGANG in Raisdorf vom 28.07.-1.08.2025
DESCRIPTION:Lehrgangskosten: 150\,-€ Montag – Freitag von 10:00 Uhr bis 14:00 Uhr \n  \nAnmeldung auch tageweise möglich\, Lehrgangskosten pro Tag 35\,-
URL:https://vetts-ttschule.de/event/vetts-sommerlehrgang-in-raisdorf-vom-28-07-1-08-2025/
LOCATION:Utoxeter Halle\, Zum See 24\, Raisdorf\, Zum See 24\, Raisdorf\, Deutschland
END:VEVENT
END:VCALENDAR