BEGIN:VCALENDAR
VERSION:2.0
PRODID:-//VETTS Veli Erdogan TischTennis Schule - ECPv6.4.0.1//NONSGML v1.0//EN
CALSCALE:GREGORIAN
METHOD:PUBLISH
X-ORIGINAL-URL:https://vetts-ttschule.de
X-WR-CALDESC:Veranstaltungen für VETTS Veli Erdogan TischTennis Schule
REFRESH-INTERVAL;VALUE=DURATION:PT1H
X-Robots-Tag:noindex
X-PUBLISHED-TTL:PT1H
BEGIN:VTIMEZONE
TZID:Europe/Berlin
BEGIN:DAYLIGHT
TZOFFSETFROM:+0100
TZOFFSETTO:+0200
TZNAME:CEST
DTSTART:20260329T010000
END:DAYLIGHT
BEGIN:STANDARD
TZOFFSETFROM:+0200
TZOFFSETTO:+0100
TZNAME:CET
DTSTART:20261025T010000
END:STANDARD
END:VTIMEZONE
BEGIN:VEVENT
DTSTART;TZID=Europe/Berlin:20260505T170000
DTEND;TZID=Europe/Berlin:20260505T210000
DTSTAMP:20260421T163236
CREATED:20260313T105743Z
LAST-MODIFIED:20260313T105743Z
UID:1399-1778000400-1778014800@vetts-ttschule.de
SUMMARY:VETTS-EINZELTRAINING in Kiel
DESCRIPTION:In der Zeit von 17 – 21 Uhr ist es möglich\, Einzeltraining zu buchen\, ab 30\,-€ pro 60 Minuten
URL:https://vetts-ttschule.de/event/vetts-einzeltraining-in-kiel-97/
LOCATION:Heinrich von Stephan Schule/Lernwerft; Falklandstraße 7; 24159 Friedrichsort
END:VEVENT
BEGIN:VEVENT
DTSTART;TZID=Europe/Berlin:20260507T160000
DTEND;TZID=Europe/Berlin:20260507T200000
DTSTAMP:20260421T163236
CREATED:20260302T141504Z
LAST-MODIFIED:20260302T141504Z
UID:1350-1778169600-1778184000@vetts-ttschule.de
SUMMARY:VETTS-EINZELTRAINING in Kiel
DESCRIPTION:In der Zeit von 16 – 20 Uhr ist es möglich\, Einzeltraining zu buchen\, ab 30\,-€ pro 60 Minuten
URL:https://vetts-ttschule.de/event/vetts-einzeltraining-in-kiel-83/
LOCATION:Sporthalle Christliche Schule Kiel; Diesterwegstr. 20; 24113 Kiel
END:VEVENT
BEGIN:VEVENT
DTSTART;TZID=Europe/Berlin:20260512T170000
DTEND;TZID=Europe/Berlin:20260512T210000
DTSTAMP:20260421T163236
CREATED:20260313T105844Z
LAST-MODIFIED:20260313T105844Z
UID:1401-1778605200-1778619600@vetts-ttschule.de
SUMMARY:VETTS-EINZELTRAINING in Kiel
DESCRIPTION:In der Zeit von 17 – 21 Uhr ist es möglich\, Einzeltraining zu buchen\, ab 30\,-€ pro 60 Minuten
URL:https://vetts-ttschule.de/event/vetts-einzeltraining-in-kiel-98/
LOCATION:Heinrich von Stephan Schule/Lernwerft; Falklandstraße 7; 24159 Friedrichsort
END:VEVENT
BEGIN:VEVENT
DTSTART;TZID=Europe/Berlin:20260514T160000
DTEND;TZID=Europe/Berlin:20260514T200000
DTSTAMP:20260421T163236
CREATED:20260302T141621Z
LAST-MODIFIED:20260302T141621Z
UID:1352-1778774400-1778788800@vetts-ttschule.de
SUMMARY:VETTS-EINZELTRAINING in Kiel
DESCRIPTION:In der Zeit von 16 – 20 Uhr ist es möglich\, Einzeltraining zu buchen\, ab 30\,-€ pro 60 Minuten
URL:https://vetts-ttschule.de/event/vetts-einzeltraining-in-kiel-84/
LOCATION:Sporthalle Christliche Schule Kiel; Diesterwegstr. 20; 24113 Kiel
END:VEVENT
BEGIN:VEVENT
DTSTART;TZID=Europe/Berlin:20260519T170000
DTEND;TZID=Europe/Berlin:20260519T210000
DTSTAMP:20260421T163236
CREATED:20260313T105935Z
LAST-MODIFIED:20260313T105935Z
UID:1403-1779210000-1779224400@vetts-ttschule.de
SUMMARY:VETTS-EINZELTRAINING in Kiel
DESCRIPTION:In der Zeit von 17 – 21 Uhr ist es möglich\, Einzeltraining zu buchen\, ab 30\,-€ pro 60 Minuten
URL:https://vetts-ttschule.de/event/vetts-einzeltraining-in-kiel-99/
LOCATION:Heinrich von Stephan Schule/Lernwerft; Falklandstraße 7; 24159 Friedrichsort
END:VEVENT
BEGIN:VEVENT
DTSTART;TZID=Europe/Berlin:20260521T160000
DTEND;TZID=Europe/Berlin:20260521T200000
DTSTAMP:20260421T163236
CREATED:20260302T141715Z
LAST-MODIFIED:20260302T141820Z
UID:1354-1779379200-1779393600@vetts-ttschule.de
SUMMARY:VETTS-EINZELTRAINING in Kiel
DESCRIPTION:In der Zeit von 16 – 20 Uhr ist es möglich\, Einzeltraining zu buchen\, ab 30\,-€ pro 60 Minuten
URL:https://vetts-ttschule.de/event/vetts-einzeltraining-in-kiel-85/
LOCATION:Sporthalle Christliche Schule Kiel; Diesterwegstr. 20; 24113 Kiel
END:VEVENT
BEGIN:VEVENT
DTSTART;TZID=Europe/Berlin:20260526T170000
DTEND;TZID=Europe/Berlin:20260526T210000
DTSTAMP:20260421T163236
CREATED:20260313T110043Z
LAST-MODIFIED:20260313T110043Z
UID:1405-1779814800-1779829200@vetts-ttschule.de
SUMMARY:VETTS-EINZELTRAINING in Kiel
DESCRIPTION:In der Zeit von 17 – 21 Uhr ist es möglich\, Einzeltraining zu buchen\, ab 30\,-€ pro 60 Minuten
URL:https://vetts-ttschule.de/event/vetts-einzeltraining-in-kiel-100/
LOCATION:Heinrich von Stephan Schule/Lernwerft; Falklandstraße 7; 24159 Friedrichsort
END:VEVENT
BEGIN:VEVENT
DTSTART;TZID=Europe/Berlin:20260528T160000
DTEND;TZID=Europe/Berlin:20260528T200000
DTSTAMP:20260421T163236
CREATED:20260302T141927Z
LAST-MODIFIED:20260302T141927Z
UID:1356-1779984000-1779998400@vetts-ttschule.de
SUMMARY:VETTS-EINZELTRAINING in Kiel
DESCRIPTION:In der Zeit von 16 – 20 Uhr ist es möglich\, Einzeltraining zu buchen\, ab 30\,-€ pro 60 Minuten
URL:https://vetts-ttschule.de/event/vetts-einzeltraining-in-kiel-86/
LOCATION:Sporthalle Christliche Schule Kiel; Diesterwegstr. 20; 24113 Kiel
END:VEVENT
END:VCALENDAR