BEGIN:VCALENDAR
VERSION:2.0
PRODID:-//VETTS Veli Erdogan TischTennis Schule - ECPv6.4.0.1//NONSGML v1.0//EN
CALSCALE:GREGORIAN
METHOD:PUBLISH
X-ORIGINAL-URL:https://vetts-ttschule.de
X-WR-CALDESC:Veranstaltungen für VETTS Veli Erdogan TischTennis Schule
REFRESH-INTERVAL;VALUE=DURATION:PT1H
X-Robots-Tag:noindex
X-PUBLISHED-TTL:PT1H
BEGIN:VTIMEZONE
TZID:Europe/Berlin
BEGIN:DAYLIGHT
TZOFFSETFROM:+0100
TZOFFSETTO:+0200
TZNAME:CEST
DTSTART:20260329T010000
END:DAYLIGHT
BEGIN:STANDARD
TZOFFSETFROM:+0200
TZOFFSETTO:+0100
TZNAME:CET
DTSTART:20261025T010000
END:STANDARD
END:VTIMEZONE
BEGIN:VEVENT
DTSTART;TZID=Europe/Berlin:20260901T170000
DTEND;TZID=Europe/Berlin:20260901T210000
DTSTAMP:20260425T123947
CREATED:20260313T111839Z
LAST-MODIFIED:20260313T111839Z
UID:1433-1788282000-1788296400@vetts-ttschule.de
SUMMARY:VETTS-EINZELTRAINING in Kiel
DESCRIPTION:In der Zeit von 17 – 21 Uhr ist es möglich\, Einzeltraining zu buchen\, ab 30\,-€ pro 60 Minuten
URL:https://vetts-ttschule.de/event/vetts-einzeltraining-in-kiel-114/
LOCATION:Heinrich von Stephan Schule/Lernwerft; Falklandstraße 7; 24159 Friedrichsort
END:VEVENT
BEGIN:VEVENT
DTSTART;TZID=Europe/Berlin:20260903T160000
DTEND;TZID=Europe/Berlin:20260903T200000
DTSTAMP:20260425T123947
CREATED:20260313T111930Z
LAST-MODIFIED:20260415T144254Z
UID:1435-1788451200-1788465600@vetts-ttschule.de
SUMMARY:VETTS-EINZELTRAINING in Kiel
DESCRIPTION:In der Zeit von 16 – 20 Uhr ist es möglich\, Einzeltraining zu buchen\, ab 30\,-€ pro 60 Minuten
URL:https://vetts-ttschule.de/event/vetts-einzeltraining-in-kiel-115/
LOCATION:Sporthalle Christliche Schule Kiel; Diesterwegstr. 20; 24113 Kiel
END:VEVENT
BEGIN:VEVENT
DTSTART;TZID=Europe/Berlin:20260908T170000
DTEND;TZID=Europe/Berlin:20260908T210000
DTSTAMP:20260425T123947
CREATED:20260313T112119Z
LAST-MODIFIED:20260313T112119Z
UID:1437-1788886800-1788901200@vetts-ttschule.de
SUMMARY:VETTS-EINZELTRAINING in Kiel
DESCRIPTION:In der Zeit von 17 – 21 Uhr ist es möglich\, Einzeltraining zu buchen\, ab 30\,-€ pro 60 Minuten
URL:https://vetts-ttschule.de/event/vetts-einzeltraining-in-kiel-116/
LOCATION:Heinrich von Stephan Schule/Lernwerft; Falklandstraße 7; 24159 Friedrichsort
END:VEVENT
BEGIN:VEVENT
DTSTART;TZID=Europe/Berlin:20260910T160000
DTEND;TZID=Europe/Berlin:20260910T200000
DTSTAMP:20260425T123947
CREATED:20260313T112208Z
LAST-MODIFIED:20260415T144205Z
UID:1439-1789056000-1789070400@vetts-ttschule.de
SUMMARY:VETTS-EINZELTRAINING in Kiel
DESCRIPTION:In der Zeit von 16 – 20 Uhr ist es möglich\, Einzeltraining zu buchen\, ab 30\,-€ pro 60 Minuten
URL:https://vetts-ttschule.de/event/vetts-einzeltraining-in-kiel-117/
LOCATION:Sporthalle Christliche Schule Kiel; Diesterwegstr. 20; 24113 Kiel
END:VEVENT
BEGIN:VEVENT
DTSTART;TZID=Europe/Berlin:20260915T170000
DTEND;TZID=Europe/Berlin:20260915T210000
DTSTAMP:20260425T123947
CREATED:20260313T112315Z
LAST-MODIFIED:20260313T112315Z
UID:1441-1789491600-1789506000@vetts-ttschule.de
SUMMARY:VETTS-EINZELTRAINING in Kiel
DESCRIPTION:In der Zeit von 17 – 21 Uhr ist es möglich\, Einzeltraining zu buchen\, ab 30\,-€ pro 60 Minuten
URL:https://vetts-ttschule.de/event/vetts-einzeltraining-in-kiel-118/
LOCATION:Heinrich von Stephan Schule/Lernwerft; Falklandstraße 7; 24159 Friedrichsort
END:VEVENT
BEGIN:VEVENT
DTSTART;TZID=Europe/Berlin:20260917T160000
DTEND;TZID=Europe/Berlin:20260917T200000
DTSTAMP:20260425T123947
CREATED:20260313T112406Z
LAST-MODIFIED:20260415T144128Z
UID:1443-1789660800-1789675200@vetts-ttschule.de
SUMMARY:VETTS-EINZELTRAINING in Kiel
DESCRIPTION:In der Zeit von 16 – 20 Uhr ist es möglich\, Einzeltraining zu buchen\, ab 30\,-€ pro 60 Minuten
URL:https://vetts-ttschule.de/event/vetts-einzeltraining-in-kiel-119/
LOCATION:Sporthalle Christliche Schule Kiel; Diesterwegstr. 20; 24113 Kiel
END:VEVENT
BEGIN:VEVENT
DTSTART;TZID=Europe/Berlin:20260922T170000
DTEND;TZID=Europe/Berlin:20260922T210000
DTSTAMP:20260425T123947
CREATED:20260313T112501Z
LAST-MODIFIED:20260313T112501Z
UID:1445-1790096400-1790110800@vetts-ttschule.de
SUMMARY:VETTS-EINZELTRAINING in Kiel
DESCRIPTION:In der Zeit von 17 – 21 Uhr ist es möglich\, Einzeltraining zu buchen\, ab 30\,-€ pro 60 Minuten
URL:https://vetts-ttschule.de/event/vetts-einzeltraining-in-kiel-120/
LOCATION:Heinrich von Stephan Schule/Lernwerft; Falklandstraße 7; 24159 Friedrichsort
END:VEVENT
BEGIN:VEVENT
DTSTART;TZID=Europe/Berlin:20260924T160000
DTEND;TZID=Europe/Berlin:20260924T200000
DTSTAMP:20260425T123947
CREATED:20260313T112600Z
LAST-MODIFIED:20260415T144038Z
UID:1447-1790265600-1790280000@vetts-ttschule.de
SUMMARY:VETTS-EINZELTRAINING in Kiel
DESCRIPTION:In der Zeit von 16 – 20 Uhr ist es möglich\, Einzeltraining zu buchen\, ab 30\,-€ pro 60 Minuten
URL:https://vetts-ttschule.de/event/vetts-einzeltraining-in-kiel-121/
LOCATION:Sporthalle Christliche Schule Kiel; Diesterwegstr. 20; 24113 Kiel
END:VEVENT
BEGIN:VEVENT
DTSTART;TZID=Europe/Berlin:20260929T170000
DTEND;TZID=Europe/Berlin:20260929T210000
DTSTAMP:20260425T123947
CREATED:20260313T112722Z
LAST-MODIFIED:20260313T112722Z
UID:1449-1790701200-1790715600@vetts-ttschule.de
SUMMARY:VETTS-EINZELTRAINING in Kiel
DESCRIPTION:In der Zeit von 17 – 21 Uhr ist es möglich\, Einzeltraining zu buchen\, ab 30\,-€ pro 60 Minuten
URL:https://vetts-ttschule.de/event/vetts-einzeltraining-in-kiel-122/
LOCATION:Heinrich von Stephan Schule/Lernwerft; Falklandstraße 7; 24159 Friedrichsort
END:VEVENT
END:VCALENDAR